BEGIN:VCALENDAR
PRODID:NingEventWidget-v1
VERSION:2.0
METHOD:PUBLISH
BEGIN:VTIMEZONE
TZID:Europe/Brussels
X-LIC-LOCATION:Europe/Brussels
BEGIN:DAYLIGHT
TZOFFSETFROM:+0100
TZOFFSETTO:+0200
TZNAME:CEST
DTSTART:19700329T020000
RRULE:FREQ=YEARLY;BYMONTH=3;BYDAY=-1SU
END:DAYLIGHT
BEGIN:STANDARD
TZOFFSETFROM:+0200
TZOFFSETTO:+0100
TZNAME:CET
DTSTART:19701025T030000
RRULE:FREQ=YEARLY;BYMONTH=10;BYDAY=-1SU
END:STANDARD
END:VTIMEZONE
BEGIN:VEVENT
UID:6318315:Event:68871
DTSTAMP:20260421T065456Z
SUMMARY:Vrijdagontmoetingen. Straffe Koffie met Bart Caron - Jan Haute
 kiet serveert.
DESCRIPTION:Met de gemeenteraadsverkiezingen in zicht, organiseert LOC
 US een reeks inspirerende ontmoetingen. Als food for thought voor de l
 okale cultuurprofessional en beleidsverantwoordelijke. We bijten de sp
 its af op vrijdag 3 februari, 14u. Radiomaker en cultuurkenner Jan Hau
 tekiet legt Vlaams parlementslid Bart Caron op de rooster naar aanleid
 ing van zijn boek \"Niet de kers op de taart/Waarom kunst- en cultuurb
 eleid geen luxe is\". Verwacht dus geen gezapige koffieklets, maar een
  gekruid en uitdagend debat over de rol, (gemiste)kansen en toekomst v
 an het lokale cultuurbeleid. Uiteraard mét een kop straffe koffie en 
 een lekker stukje taart. Deelnemen is gratis, inschrijven kan tot uite
 rlijk woensdag 1 februari.\nBent u er graag bij? Schrijf u hier in\n\n
 Zie voor meer informatie http://kenniskantoor.be/events/vrijdagontmoet
 ingen-straffe-koffie-met-bart-caron-jan-hautekiet
DTSTART;TZID=Europe/Brussels:20120203T140000
DTEND;TZID=Europe/Brussels:20120203T160000
CATEGORIES:ontmoeting, -, spreker, debat
LOCATION:Priem
WEBSITE:
URL:
CONTACT:
ORGANIZER;CN="An Vanlierde":http://kenniskantoor.be/profile/AnVanlierd
 e
ATTACH;FMTTYPE="image/jpeg":http://storage.ning.com/topology/rest/1.0/
 file/get/2638649616?profile=original
ATTENDEE;ROLE=REQ-PARTICIPANT;PARTSTAT=ACCEPTED;RSVP=TRUE;CN="An Vanli
 erde":http://kenniskantoor.be/profile/AnVanlierde
END:VEVENT
END:VCALENDAR
