BEGIN:VCALENDAR
PRODID:NingEventWidget-v1
VERSION:2.0
METHOD:PUBLISH
BEGIN:VTIMEZONE
TZID:Europe/Brussels
X-LIC-LOCATION:Europe/Brussels
BEGIN:DAYLIGHT
TZOFFSETFROM:+0100
TZOFFSETTO:+0200
TZNAME:CEST
DTSTART:19700329T020000
RRULE:FREQ=YEARLY;BYMONTH=3;BYDAY=-1SU
END:DAYLIGHT
BEGIN:STANDARD
TZOFFSETFROM:+0200
TZOFFSETTO:+0100
TZNAME:CET
DTSTART:19701025T030000
RRULE:FREQ=YEARLY;BYMONTH=10;BYDAY=-1SU
END:STANDARD
END:VTIMEZONE
BEGIN:VEVENT
UID:6318315:Event:63304
DTSTAMP:20260421T020624Z
SUMMARY:Symposium leenrecht op 12 december 2011 in Brussel
DESCRIPTION:Op 12 december 2011 organiseren deAuteurs-LIRA in samenwer
 king met SACD-Scam een symposium over het leenrecht in België en Nede
 rland. Dit vindt plaats in de Koninklijke Bibliotheek in Brussel.\n \
 nDoor de invoering van een leenrecht, kunnen openbare bibliotheken aut
 eursrechtelijk beschermde werken (zoals boeken, tijdschriften, cd's) u
 itlenen, zonder dat de betrokken auteurs zich hiertegen kunnen verzett
 en. Als compensatie voor het nadeel dat de auteurs hierdoor lijden, he
 bben zij wel recht op een vergoeding. Het KB van 25 april 2004 legt he
 t bedrag van die vergoeding vast op 1 euro per jaar per volwassen lid 
 van de bibliotheek en op 0.5 euro per jaar per minderjarig lid. Deze b
 edragen worden sinds 2005 geïnd en verdeeld door beheersvennootschap 
 Reprobel. Tot nu toe is die inning gecentraliseerd bij de Vlaamse Geme
 enschap die jaarlijks één betaling verricht in naam van alle openbar
 e uitleeninstellingen in Vlaanderen.\n \nHet Europese Hof van Justiti
 e heeft nu geoordeeld dat de Belgische regeling niet voldoet aan de Eu
 ropese vereisten. De vastgelegde bedragen houden te weinig rekening me
 t het nadeel dat door de auteurs wordt geleden en waarborgen geen 'pas
 send inkomen' voor de auteurs.\n \nHet valt dus te verwachten dat dez
 e bedragen zullen worden opgetrokken. Vraag is of die dan nog steeds g
 ecentraliseerd door Vlaanderen zullen worden uitbetaald dan wel op een
  andere manier zullen worden geïnd... De onderhandelingen over een ni
 euw KB zijn volop aan de gang en de organisatoren van dit symposium we
 nsen op deze manier bij te dragen aan het debat.\n \nWenst u zich in 
 te schrijven of wilt u meer info:\nhttp://www.sacd-scam.be/spip.php?pa
 ge=toutes_les_news_nl&lang=n...\n\n\n\n\nZie voor meer informatie http
 ://kenniskantoor.be/events/symposium-leenrecht-op-12-december-2011-in-
 brussel
DTSTART;TZID=Europe/Brussels:20111212T123000
DTEND;TZID=Europe/Brussels:20111212T180000
CATEGORIES:symposium
LOCATION:Koninklijke Bibliotheek Brussel.
WEBSITE:http://www.sacd-scam.be/Symposium-Leenrecht-in-Belgie-en?lang=
 nl
URL:http://www.sacd-scam.be/Symposium-Leenrecht-in-Belgie-en?lang=nl
CONTACT:
ORGANIZER:deAuteurs-LIRA in samenwerking met SACD-Scam
ATTACH;FMTTYPE="image/jpeg":
ATTENDEE;ROLE=REQ-PARTICIPANT;PARTSTAT=ACCEPTED;RSVP=TRUE;CN="Hannes C
 annie":http://kenniskantoor.be/profile/HannesCannie
END:VEVENT
END:VCALENDAR
