BEGIN:VCALENDAR
PRODID:NingEventWidget-v1
VERSION:2.0
METHOD:PUBLISH
BEGIN:VTIMEZONE
TZID:Europe/Brussels
X-LIC-LOCATION:Europe/Brussels
BEGIN:DAYLIGHT
TZOFFSETFROM:+0100
TZOFFSETTO:+0200
TZNAME:CEST
DTSTART:19700329T020000
RRULE:FREQ=YEARLY;BYMONTH=3;BYDAY=-1SU
END:DAYLIGHT
BEGIN:STANDARD
TZOFFSETFROM:+0200
TZOFFSETTO:+0100
TZNAME:CET
DTSTART:19701025T030000
RRULE:FREQ=YEARLY;BYMONTH=10;BYDAY=-1SU
END:STANDARD
END:VTIMEZONE
BEGIN:VEVENT
UID:6318315:Event:66225
DTSTAMP:20260421T090119Z
SUMMARY:Studiereis Bologna 2012: jeugdbibliotheekwerk van de toekomst
DESCRIPTION:Is de jeugdbibliothecaris de nieuwe rattenvanger van Hamel
 en?Â \nOveral hecht men veel belang aan een structurele positie voor d
 e lokale bibliotheek in het basisonderwijs. Deze toekomstbestendige re
 latie is gericht op leesbevordering, mediawijsheid en het stimuleren v
 an leesplezier en krijgt onder meer vorm in â€˜De Bibliotheek op schoo
 lâ€™.Â â€¨Ook lokaal herpositioneren veel bibliotheken actief hun jeug
 dÂ­bibliotheek. Hierbij staan veelal het kind en zijn talent centraal,
  en is de bibliotheek een open plek waarin de ideeÃ«n en creativiteit 
 van het kind alle ruimte krijgen. De jeugdbibliotheek ontwikkelt zich 
 zo tot een Bibliotheek van 100 talenten.â€¨â€¨De studiereis naar Bolog
 na biedt een inspirerend en sterk inhoudelijk programma, onder andere 
 door een bezoek aan de vermaarde kinderboekenbeurs: BOLOGNA CHILDREN'S
  BOOK FAIR. Doel is om inzicht te krijgen in hoe je bij de ontwikkelin
 g van kinderen aansluit en hoe je hen stimuleert om daadwerkelijk hun 
 talenten in te zetten en verder te ontwikkelen. Niet alleen binnen de 
 muren van de bibliotheek, maar ook op school.\nDe visie van de bibliot
 hecaris op de ontwikkeling van kinderen is hierbij essentieel. Het pro
 gramma biedt ruimschoots mogelijkheden voor reflectie, inspiratie en k
 ennisoverdracht.Â \nHet programma omvat in ieder geval\n-Â Â Â Â Â Â Â
  Â Â  Bezoek aan de kinderboekenbeurs\n-Â Â Â Â Â Â Â Â Â  Bezoek aan 
 jeugdbibliotheek Sala Borsa in Bologna\n-Â Â Â Â Â Â Â Â Â  Bezoek aan
  de bibliotheek in Modena\n-Â Â Â Â Â Â Â Â Â  Internationale workshop
  over toepassingen van 100 talenten\n-Â Â Â Â Â Â Â Â Â  International
 e uitgeversborrel aangeboden door Nederlandse UitgeversBond\n-Â Â Â Â 
 Â Â Â Â Â  Een bijzondere ontmoeting met een uitgever en auteurom van 
 gedachten te wisselen over leesbevordering en promotie van jeugdlitera
 tuur\nÂ \nWorkshop voorafgaand aan de studiereis Bologna\nVoorafgaand 
 aan de studiereis vindt een workshop (van een dagdeel)Â plaats. Deze w
 ordtÂ in samenwerking met Stichting Lezen georganiseerd en gaat dieper
  in op enerzijds het historische perspectief van kind en literatuur en
  anderzijds de hedendaagse visie op het kind, vormgegeven in het innov
 atieve concept vanÂ De Bibliotheek van 100 talenten.Â De workshop is a
 lleen bestemd voor deelnemers aan de reis naar Bologna. Datum en plaat
 s worden nog bekendgemaakt.\nKortom: door vanuit het perspectief van d
 e ontwikkelingspsychologie het onderwerp te bekijken, trachten we zove
 el mogelijk kinderen te verzamelen achter de rattenvanger van Hamelen.
 â€¨â€¨\nKostenÂ \nDe deelnamekosten voor deze studiereisÂ â‚¬ 895,- ex
 cl. btw.\nInschrijven\nAanmelden kan met het inschrijfformulierÂ tot u
 iterlijk 22 januari 2012. Inschrijving is bindend in verband met de vl
 iegtickets. Voor afmeldingen na 22 januari 2012 brengen wij de volledi
 ge deelnamekosten in rekening.\nâ€¨Voor meer informatie\nInhoudelijke 
 organisatieâ€¨De organisatie is in handen van Rob BruijnzeelsÂ en Ramm
 y Speyer. Nadere informatie kunt u verkrijgen bij Rammy Speyer, e-mail
  a.speyer@kpnplanet.nlâ€¨â€¨\nInschrijvingenâ€¨Manon Ober en Cynthia O
 verbeek, e-mail evenementen@probiblio.nl\nDeze studiereis wordt gesteu
 nd door: ProBiblio enÂ NBD|Biblion\nNAAR INSCHRIJFFORMULIER\n\nZie voo
 r meer informatie http://kenniskantoor.be/events/studiereis-bologna-20
 12-jeugdbibliotheekwerk-van-de-toekomst
DTSTART;TZID=Europe/Brussels:20120318T000000
DTEND;TZID=Europe/Brussels:20120321T235900
CATEGORIES:studiereis
LOCATION:Bologna
WEBSITE:http://www.bolognachildrensbookfair.com/en/info/
URL:http://www.bolognachildrensbookfair.com/en/info/
CONTACT:
ORGANIZER:ProBiblio/ Rob Bruynzeels
ATTACH;FMTTYPE="image/jpeg":
ATTENDEE;ROLE=REQ-PARTICIPANT;PARTSTAT=ACCEPTED;RSVP=TRUE;CN="maike so
 mers":http://kenniskantoor.be/profile/maikesomers
END:VEVENT
END:VCALENDAR
