BEGIN:VCALENDAR
PRODID:NingEventWidget-v1
VERSION:2.0
METHOD:PUBLISH
BEGIN:VTIMEZONE
TZID:Europe/Brussels
X-LIC-LOCATION:Europe/Brussels
BEGIN:DAYLIGHT
TZOFFSETFROM:+0100
TZOFFSETTO:+0200
TZNAME:CEST
DTSTART:19700329T020000
RRULE:FREQ=YEARLY;BYMONTH=3;BYDAY=-1SU
END:DAYLIGHT
BEGIN:STANDARD
TZOFFSETFROM:+0200
TZOFFSETTO:+0100
TZNAME:CET
DTSTART:19701025T030000
RRULE:FREQ=YEARLY;BYMONTH=10;BYDAY=-1SU
END:STANDARD
END:VTIMEZONE
BEGIN:VEVENT
UID:6318315:Event:63309
DTSTAMP:20260421T090837Z
SUMMARY:Studiedag Digitale Week
DESCRIPTION:De jaarlijkse studiedag Digitale week in het Vlaams parlem
 ent vindt plaats op vrijdag 16 maart 2012. Tijdens deze studiedag word
 t ook de E-award 2012 uitgereikt. De E-award-uitreiking plaatst een aa
 ntal inspirerende e-inclusie-initiatieven in de kijker.\nHet thema van
  de Vlaamse studiedag is ‘#Internet(R)evolutie! Naar sociaal-culture
 el(net)werken’. De focus ligt op het netwerkpotentieel van het inter
 net en de manier waarop dit ingezet kan worden in het brede maatschapp
 elijke veld.  Onderwerpen die onder meer aan bod zullen komen zijn de
  diverse aspecten van sociale media op vlak van e-inclusie, mediagelet
 terdheid en privacy, het gebruik van blended learning-strategieën en 
 de mogelijkheden van cloud computing.\nMeer info volgt binnenkort op h
 ttp://www.digitaleweek.be/\n\n\nZie voor meer informatie http://kennis
 kantoor.be/events/studiedag-digitale-week
DTSTART;TZID=Europe/Brussels:20120316T000000
DTEND;TZID=Europe/Brussels:20120316T235900
CATEGORIES:studiedag
LOCATION:Vlaams Parlement
WEBSITE:
URL:
CONTACT:
ORGANIZER:Linc vzw
ATTACH;FMTTYPE="image/jpeg":http://storage.ning.com/topology/rest/1.0/
 file/get/2638640539?profile=original
ATTENDEE;ROLE=REQ-PARTICIPANT;PARTSTAT=ACCEPTED;RSVP=TRUE;CN="Bruno Da
 ems":http://kenniskantoor.be/profile/BrunoD
ATTENDEE;ROLE=REQ-PARTICIPANT;PARTSTAT=ACCEPTED;RSVP=TRUE;CN="Veerle P
 utman":http://kenniskantoor.be/profile/VeerlePutman130
ATTENDEE;ROLE=REQ-PARTICIPANT;PARTSTAT=ACCEPTED;RSVP=TRUE;CN="Ilse Dep
 ré":http://kenniskantoor.be/profile/IlseDepre
ATTENDEE;ROLE=REQ-PARTICIPANT;PARTSTAT=TENTATIVE;RSVP=TRUE;CN="Suzanne
  Rys":http://kenniskantoor.be/profile/SRys
ATTENDEE;ROLE=REQ-PARTICIPANT;PARTSTAT=TENTATIVE;RSVP=TRUE;CN="geert.l
 ievens":http://kenniskantoor.be/profile/geertlievens
END:VEVENT
END:VCALENDAR
