BEGIN:VCALENDAR
PRODID:NingEventWidget-v1
VERSION:2.0
METHOD:PUBLISH
BEGIN:VTIMEZONE
TZID:Europe/Brussels
X-LIC-LOCATION:Europe/Brussels
BEGIN:DAYLIGHT
TZOFFSETFROM:+0100
TZOFFSETTO:+0200
TZNAME:CEST
DTSTART:19700329T020000
RRULE:FREQ=YEARLY;BYMONTH=3;BYDAY=-1SU
END:DAYLIGHT
BEGIN:STANDARD
TZOFFSETFROM:+0200
TZOFFSETTO:+0100
TZNAME:CET
DTSTART:19701025T030000
RRULE:FREQ=YEARLY;BYMONTH=10;BYDAY=-1SU
END:STANDARD
END:VTIMEZONE
BEGIN:VEVENT
UID:6318315:Event:106124
DTSTAMP:20260419T235956Z
SUMMARY:Studiedag Armoede en e-inclusie
DESCRIPTION:Donderdag 30 mei organiseert Mediawijs.be, Wie Online, het
  Netwerk tegen Armoede en Digipolis, Stad Gent en OCMW Gent een studie
 dag over ‘Armoede en e-inclusie’ in het Kultuurkaffee op de campus
  van de VUB. Deze studiedag wil de deelnemers inspireren met een reeks
  praktijkvoorbeelden om mensen in kansarmoede hun digitale wereld te h
 elpen verbreden en meer ICT-vaardigheden te doen ontwikkelen.\n \nDe 
 studiedag bestaat uit twee delen waarvoor men apart moet inschrijven. 
 In de voormiddag vindt er een intensieve werksessie plaats over hoe je
  als stad, gemeente of OCMW het samenwerkingsproject Recup pc kan opze
 tten. De namiddag wordt ingeleid door Carolien Patyn, stafmedewerker a
 rmoedebeleid. Vervolgens worden er drie concrete projecten uit Vlaande
 ren voorgesteld: Recup pc, Wie online en Sterke ouders. Aan het einde 
 van de studiedag is er een panelgesprek over het thema ‘armoede en e
 -inclusie’ met vertegenwoordigers uit het beleid, het onderzoeksveld
  en de praktijk.\n \nMeer info over het programma via www.mediawijs.b
 e.\n \nPraktische info:\nDatum: donderdag 30 mei\nTiming: Voormiddag 
 10u-12u en namiddag van 13u tot 15u30\nLocatie: Kultuurkaffee, campus 
 van de VUB\nToegang is gratis, inschrijven is verplicht.\nContact: lau
 re.vanhoecke(@)iminds.be\n\nZie voor meer informatie http://kenniskant
 oor.be/events/studiedag-armoede-en-e-inclusie
DTSTART;TZID=Europe/Brussels:20130530T130000
DTEND;TZID=Europe/Brussels:20130530T153000
CATEGORIES:studiedag
LOCATION:Kultuurkaffee, campus van de VUB
WEBSITE:
URL:
CONTACT:
ORGANIZER;CN="Sanne Hermans":http://kenniskantoor.be/profile/SanneHerm
 ans
ATTACH;FMTTYPE="image/jpeg":http://storage.ning.com/topology/rest/1.0/
 file/get/2638662331?profile=original
ATTENDEE;ROLE=REQ-PARTICIPANT;PARTSTAT=ACCEPTED;RSVP=TRUE;CN="Sanne He
 rmans":http://kenniskantoor.be/profile/SanneHermans
END:VEVENT
END:VCALENDAR
