BEGIN:VCALENDAR
PRODID:NingEventWidget-v1
VERSION:2.0
METHOD:PUBLISH
BEGIN:VTIMEZONE
TZID:Europe/Brussels
X-LIC-LOCATION:Europe/Brussels
BEGIN:DAYLIGHT
TZOFFSETFROM:+0100
TZOFFSETTO:+0200
TZNAME:CEST
DTSTART:19700329T020000
RRULE:FREQ=YEARLY;BYMONTH=3;BYDAY=-1SU
END:DAYLIGHT
BEGIN:STANDARD
TZOFFSETFROM:+0200
TZOFFSETTO:+0100
TZNAME:CET
DTSTART:19701025T030000
RRULE:FREQ=YEARLY;BYMONTH=10;BYDAY=-1SU
END:STANDARD
END:VTIMEZONE
BEGIN:VEVENT
UID:6318315:Event:93715
DTSTAMP:20260419T152531Z
SUMMARY:Prijsuitreiking Fedactio Kortverhaalwedstrijd
DESCRIPTION:De Federatie van Actieve Verenigingen van België organise
 ert in 2013 de eerste editie van de nationale Fedactio Kortverhaalweds
 trijd.\nDe nationale kortverhaalwedstrijd wil de maatschappelijke cohe
 sie vergroten door de mensen aan het denken te zetten over thema’s a
 ls kunst van het samenleven, culturele diversiteit, empathie, dialoog,
  tolerantie en vriendschap. De deelnemers (+16j) worden uitgedaagd om 
 in het kader van één of meerdere van bovenstaande thema’s een kort
 verhaal te schrijven. Een professionele jury bestaande uit prominente 
 auteurs, redacteurs, uitgevers en recensenten (oa. Monika van Paemel, 
 Diane Broeckhoven, Chica Unigwe, Philip Hoorne, Jo Bossuyt, Veerle Van
 den Bosch, An Leenders, Frank Decerf en Yves T' Sjoen) zullen de inges
 tuurde manuscripten lezen en beoordelen en de beste werken uitkiezen. 
 De finalisten zullen tijdens de prijsuitreiking op 30 maart 2013 in de
  bloemetjes gezet worden en zullen ze mooie prijzen winnen zoals een I
 pad, e-reader en cadeaucheques.\n\nZie voor meer informatie http://ken
 niskantoor.be/events/prijsuitreiking-fedactio-kortverhaalwedstrijd
DTSTART;TZID=Europe/Brussels:20130330T170000
DTEND;TZID=Europe/Brussels:20130330T190000
CATEGORIES:prijsuitreiking
LOCATION:Brussel
WEBSITE:http://www.kortverhaalwedstrijd.be
URL:http://www.kortverhaalwedstrijd.be
CONTACT:
ORGANIZER:Fedactio
ATTACH;FMTTYPE="image/jpeg":
ATTENDEE;ROLE=REQ-PARTICIPANT;PARTSTAT=ACCEPTED;RSVP=TRUE;CN="lien van
 hoorne":http://kenniskantoor.be/profile/lienvanhoorne
END:VEVENT
END:VCALENDAR
