BEGIN:VCALENDAR
PRODID:NingEventWidget-v1
VERSION:2.0
METHOD:PUBLISH
BEGIN:VTIMEZONE
TZID:Europe/Brussels
X-LIC-LOCATION:Europe/Brussels
BEGIN:DAYLIGHT
TZOFFSETFROM:+0100
TZOFFSETTO:+0200
TZNAME:CEST
DTSTART:19700329T020000
RRULE:FREQ=YEARLY;BYMONTH=3;BYDAY=-1SU
END:DAYLIGHT
BEGIN:STANDARD
TZOFFSETFROM:+0200
TZOFFSETTO:+0100
TZNAME:CET
DTSTART:19701025T030000
RRULE:FREQ=YEARLY;BYMONTH=10;BYDAY=-1SU
END:STANDARD
END:VTIMEZONE
BEGIN:VEVENT
UID:6318315:Event:68321
DTSTAMP:20260421T065456Z
SUMMARY:praktijksessie Fundels in bib Sint-Niklaas
DESCRIPTION:Voor bibliotheken die overwegen Fundels in huis te halen m
 aar nog vragen hebben over de concrete aanpak, organiseert Bibnet prak
 tijksessies. Na een algemene inleiding vertelt een bibliotheek die al 
 Fundels uitleent over haar ervaringen, van aankoop tot (zelf)uitleen, 
 en alles ertussenin. We proberen de Fundels zelf uit, en er is ruimte 
 voor vragen.\nInschrijven kan tot 20 februari bij lisbeth.vandoorne@bi
 bnet.be\nJe kan er 27/02 niet bij zijn? Er zijn ook nog sessies op 27/
 03 en 23/03 in Wevelgem en Balen.\n\nZie voor meer informatie http://k
 enniskantoor.be/events/praktijksessie-fundels-in-bib-sint-niklaas
DTSTART;TZID=Europe/Brussels:20120227T100000
DTEND;TZID=Europe/Brussels:20120227T113000
CATEGORIES:praktijksessie, fundels
LOCATION:Bibliotheek Sint-Niklaas
WEBSITE:
URL:
CONTACT:0474 46.03.31
ORGANIZER;CN="lisbeth vandoorne":http://kenniskantoor.be/profile/lisbe
 thvandoorne
ATTACH;FMTTYPE="image/jpeg":http://storage.ning.com/topology/rest/1.0/
 file/get/2638649263?profile=original
ATTENDEE;ROLE=REQ-PARTICIPANT;PARTSTAT=ACCEPTED;RSVP=TRUE;CN="Eva De R
 ous":http://kenniskantoor.be/profile/EvaDeRous
ATTENDEE;ROLE=REQ-PARTICIPANT;PARTSTAT=ACCEPTED;RSVP=TRUE;CN="lisbeth 
 vandoorne":http://kenniskantoor.be/profile/lisbethvandoorne
END:VEVENT
END:VCALENDAR
