BEGIN:VCALENDAR
PRODID:NingEventWidget-v1
VERSION:2.0
METHOD:PUBLISH
BEGIN:VTIMEZONE
TZID:Europe/Brussels
X-LIC-LOCATION:Europe/Brussels
BEGIN:DAYLIGHT
TZOFFSETFROM:+0100
TZOFFSETTO:+0200
TZNAME:CEST
DTSTART:19700329T020000
RRULE:FREQ=YEARLY;BYMONTH=3;BYDAY=-1SU
END:DAYLIGHT
BEGIN:STANDARD
TZOFFSETFROM:+0200
TZOFFSETTO:+0100
TZNAME:CET
DTSTART:19701025T030000
RRULE:FREQ=YEARLY;BYMONTH=10;BYDAY=-1SU
END:STANDARD
END:VTIMEZONE
BEGIN:VEVENT
UID:6318315:Event:53823
DTSTAMP:20260419T140317Z
SUMMARY:Ovinob Jaarvergadering en lancering digitaal Bibliotheekportaa
 l
DESCRIPTION:Op dinsdag 4 oktober 2011 vanaf 09.30 uur zal onze Ovinob 
 jaarvergadering plaatsvinden. We komen samen in de bibliotheek van Den
 dermonde en evalueren er de voorbije werking van het Ovinob-project, 
 kijken wat de toekomst ons kan brengen en bieden achtergrondinformatie
  bij recente evoluties in het bibliotheekwezen. Op het programma onder
  andere de resultaten van het 'Toegankelijkheidsonderzoek Oost-Vlaamse
  openbare bibliotheken' en een voorstelling van de digitale week doo
 r Bibnet en OBGent. Als kers op de taart lanceren wij die dag het dig
 itale Bibliotheekportaal, een nieuwe, veel rijkere zoekomgeving. Wij h
 open jullie in groten getale te mogen verwelkomen!\n\nZie voor meer in
 formatie http://kenniskantoor.be/events/ovinob-jaarvergadering-en-lanc
 ering-digitaal-bibliotheekportaal
DTSTART;TZID=Europe/Brussels:20111004T000000
DTEND;TZID=Europe/Brussels:20111004T235900
CATEGORIES:jaarvergadering
LOCATION:Bibliotheek Dendermonde
WEBSITE:http://www.ovinob.be/jaarvergadering2011
URL:http://www.ovinob.be/jaarvergadering2011
CONTACT:09/267.77.88
ORGANIZER;CN="Tina Claessens":http://kenniskantoor.be/profile/TinaClae
 ssens
ATTACH;FMTTYPE="image/jpeg":http://storage.ning.com/topology/rest/1.0/
 file/get/2638642670?profile=original
ATTENDEE;ROLE=REQ-PARTICIPANT;PARTSTAT=ACCEPTED;RSVP=TRUE;CN="Jan Deck
 ers":http://kenniskantoor.be/profile/Jan_Deckers
ATTENDEE;ROLE=REQ-PARTICIPANT;PARTSTAT=ACCEPTED;RSVP=TRUE;CN="Tina Cla
 essens":http://kenniskantoor.be/profile/TinaClaessens
END:VEVENT
END:VCALENDAR
