BEGIN:VCALENDAR
PRODID:NingEventWidget-v1
VERSION:2.0
METHOD:PUBLISH
BEGIN:VTIMEZONE
TZID:Europe/Brussels
X-LIC-LOCATION:Europe/Brussels
BEGIN:DAYLIGHT
TZOFFSETFROM:+0100
TZOFFSETTO:+0200
TZNAME:CEST
DTSTART:19700329T020000
RRULE:FREQ=YEARLY;BYMONTH=3;BYDAY=-1SU
END:DAYLIGHT
BEGIN:STANDARD
TZOFFSETFROM:+0200
TZOFFSETTO:+0100
TZNAME:CET
DTSTART:19701025T030000
RRULE:FREQ=YEARLY;BYMONTH=10;BYDAY=-1SU
END:STANDARD
END:VTIMEZONE
BEGIN:VEVENT
UID:6318315:Event:45918
DTSTAMP:20260419T153135Z
SUMMARY:Oost-Vlaamse genealogische ontmoetingsdag
DESCRIPTION:VVF Deinze organiseert de Oost-Vlaamse genealogische ontmo
 etingsdag. Deze boekenbeurs staat open zowel voor alle verenigingen, i
 nstellingen en auteurs (al dan niet in eigen beheer), alsook voor uitg
 everijen en gespecialiseerde boekhandels die genealogische publicaties
  hebben aan te bieden. Er is een ruime keuze aan talrijke standen, met
  o.a. genealogische werken, genealogische software-programma's, formul
 ieren, heruitgaven van naslagwerken, enz. Tevens is er gelegenheid tot
  contacten met andere vorsers uit de ons omliggende VVF-afdelingen en 
 kunnen er gegevens uitgewisseld worden. Bovendien is de Dienst Toerism
 e Deinze en Leiestreek ook aanwezig. De toegang is gratis.\n \n\nZie 
 voor meer informatie http://kenniskantoor.be/events/oost-vlaamse-genea
 logische-ontmoetingsdag
DTSTART;TZID=Europe/Brussels:20111002T090000
DTEND;TZID=Europe/Brussels:20111002T123000
CATEGORIES:genealogische, ontmoetingsdag
LOCATION:zaal Rekkelinge
WEBSITE:http://maps.google.be/maps?hl=nl&qscrl=1&nord=1&rlz=1T4GGLL_nl
 BE394BE395&q=D.+Delcroixstraat+Deinze&gs_sm=&gs_upl=&bav=on.2,or.r_gc.
 r_pw.&biw=1680&bih=797&ion=1&wrapid=tlif131427651554110&um=1&ie=UTF-8&
 sa=N&tab=wl
URL:http://maps.google.be/maps?hl=nl&qscrl=1&nord=1&rlz=1T4GGLL_nlBE39
 4BE395&q=D.+Delcroixstraat+Deinze&gs_sm=&gs_upl=&bav=on.2,or.r_gc.r_pw
 .&biw=1680&bih=797&ion=1&wrapid=tlif131427651554110&um=1&ie=UTF-8&sa=N
 &tab=wl
CONTACT:
ORGANIZER:VVF Deinze
ATTACH;FMTTYPE="image/jpeg":
ATTENDEE;ROLE=REQ-PARTICIPANT;PARTSTAT=ACCEPTED;RSVP=TRUE;CN="Valerie 
 Vermassen":http://kenniskantoor.be/profile/ValerieVermassen
END:VEVENT
END:VCALENDAR
