BEGIN:VCALENDAR
PRODID:NingEventWidget-v1
VERSION:2.0
METHOD:PUBLISH
BEGIN:VTIMEZONE
TZID:Europe/Brussels
X-LIC-LOCATION:Europe/Brussels
BEGIN:DAYLIGHT
TZOFFSETFROM:+0100
TZOFFSETTO:+0200
TZNAME:CEST
DTSTART:19700329T020000
RRULE:FREQ=YEARLY;BYMONTH=3;BYDAY=-1SU
END:DAYLIGHT
BEGIN:STANDARD
TZOFFSETFROM:+0200
TZOFFSETTO:+0100
TZNAME:CET
DTSTART:19701025T030000
RRULE:FREQ=YEARLY;BYMONTH=10;BYDAY=-1SU
END:STANDARD
END:VTIMEZONE
BEGIN:VEVENT
UID:6318315:Event:105770
DTSTAMP:20260419T222821Z
SUMMARY:Oog en oor op de toekomst
DESCRIPTION:In veel bibliotheken loopt de uitleen van film en muziek t
 erug. Digitale tv, gratis downloads, smartphones en tablets maken je f
 avoriete muziek en film beschikbaar, waar en wanneer je maar wil. Ze z
 orgen ervoor dat de rol van bibliotheken op dit gebied een gigantische
  uitdaging wordt. Wat brengt de toekomst? We vragen het ons allemaal a
 f, maar het blijft een beetje koffiedik kijken.\nTijdens de studiedag 
 proberen we alvast een aantal mogelijkheden en kansen voor de toekomst
  te belichten. Daarnaast reiken we ook enkele tools aan waarmee je op 
 dit moment het maximale uit je afdeling kan halen.\nMeer info over het
  programma en inschrijvingen vind je op Oog en oor op de toekomst\n\nZ
 ie voor meer informatie http://kenniskantoor.be/events/oog-en-oor-op-d
 e-toekomst
DTSTART;TZID=Europe/Brussels:20130530T094500
DTEND;TZID=Europe/Brussels:20130530T163000
CATEGORIES:studiedag
LOCATION:Bibliotheek Permeke
WEBSITE:https://maps.google.be/maps?f=q&source=s_q&hl=nl&geocode=&q=bi
 liotheek+Permeke+Antwerpen&aq=&sll=51.09623,4.227975&sspn=1.291924,2.4
 69177&vpsrc=0&t=h&ie=UTF8&hq=biliotheek+Permeke&hnear=Antwerpen,+Vlaam
 s+Gewest&z=15&iwloc=A&cid=7343668212801744328
URL:https://maps.google.be/maps?f=q&source=s_q&hl=nl&geocode=&q=biliot
 heek+Permeke+Antwerpen&aq=&sll=51.09623,4.227975&sspn=1.291924,2.46917
 7&vpsrc=0&t=h&ie=UTF8&hq=biliotheek+Permeke&hnear=Antwerpen,+Vlaams+Ge
 west&z=15&iwloc=A&cid=7343668212801744328
CONTACT:
ORGANIZER:VVBAD vakgroep muziek- en filmbibliothecarissen
ATTACH;FMTTYPE="image/jpeg":http://storage.ning.com/topology/rest/1.0/
 file/get/2638662820?profile=original
ATTENDEE;ROLE=REQ-PARTICIPANT;PARTSTAT=ACCEPTED;RSVP=TRUE;CN="Klaartje
  Brits":http://kenniskantoor.be/profile/KlaartjeBrits
END:VEVENT
END:VCALENDAR
