BEGIN:VCALENDAR
PRODID:NingEventWidget-v1
VERSION:2.0
METHOD:PUBLISH
BEGIN:VTIMEZONE
TZID:Europe/Brussels
X-LIC-LOCATION:Europe/Brussels
BEGIN:DAYLIGHT
TZOFFSETFROM:+0100
TZOFFSETTO:+0200
TZNAME:CEST
DTSTART:19700329T020000
RRULE:FREQ=YEARLY;BYMONTH=3;BYDAY=-1SU
END:DAYLIGHT
BEGIN:STANDARD
TZOFFSETFROM:+0200
TZOFFSETTO:+0100
TZNAME:CET
DTSTART:19701025T030000
RRULE:FREQ=YEARLY;BYMONTH=10;BYDAY=-1SU
END:STANDARD
END:VTIMEZONE
BEGIN:VEVENT
UID:6318315:Event:98299
DTSTAMP:20260420T085648Z
SUMMARY:New York: Sociale innovatie, nieuwe dienstverlening en culture
 el ondernemerschap
DESCRIPTION:Van 18 t/m 23 juni 2013 organiseert Bibliotheekblad in sam
 enwerking met Rogues (non-profit organisatie gespecialiseerd in studie
 reizen voor openbare bibliotheken) een zesdaagse studiereis naar New Y
 ork, de stad waar alles gebeurt en waar alles mogelijk is..... \nNew 
 York, een creatieve, dynamische metropool en het mondiale centrum voor
  handel, financiën, media, onderwijs, theater, muziek, kunst, mode en
  publiciteit. Maar ook een stad die de komende jaren bijna 700 miljoen
  dollar investeert in nieuwe vormen van openbaar bibliotheekwerk. Want
  ondanks krimpende budgetten bouwen deze bibliotheken aan een nieuwe t
 oekomst in tijden van internet en E-books en geven zo nieuwe inhoud aa
 n klassieke waarden zoals geletterdheid, cultuurparticipatie en maatsc
 happelijke verankering. Zowel de New York Public Library, de Brooklyn 
 Public Library als de Queens Library realiseren grootschalige, innovat
 ieve nieuw- of verbouwprojecten en werken aan nieuwe vormen van digita
 le dienstverlening. Tijdens deze reis maak je kennis met deze ‘grote
  drie’ van het bibliotheekwerk.\nInschrijven kan hier\n\nZie voor me
 er informatie http://kenniskantoor.be/events/new-york-sociale-innovati
 e-nieuwe-dienstverlening-en-cultureel
DTSTART;TZID=Europe/Brussels:20130618T000000
DTEND;TZID=Europe/Brussels:20130623T235900
CATEGORIES:studiereis
LOCATION:New York
WEBSITE:http://www.bibliotheekblad.nl/rubrieken/artikel/1000003656
URL:http://www.bibliotheekblad.nl/rubrieken/artikel/1000003656
CONTACT:
ORGANIZER:BibliotheekBlad en Rogues
ATTACH;FMTTYPE="image/jpeg":http://storage.ning.com/topology/rest/1.0/
 file/get/2638672055?profile=original
ATTENDEE;ROLE=REQ-PARTICIPANT;PARTSTAT=TENTATIVE;RSVP=TRUE;CN="maike s
 omers":http://kenniskantoor.be/profile/maikesomers
END:VEVENT
END:VCALENDAR
