BEGIN:VCALENDAR
PRODID:NingEventWidget-v1
VERSION:2.0
METHOD:PUBLISH
BEGIN:VTIMEZONE
TZID:Europe/Brussels
X-LIC-LOCATION:Europe/Brussels
BEGIN:DAYLIGHT
TZOFFSETFROM:+0100
TZOFFSETTO:+0200
TZNAME:CEST
DTSTART:19700329T020000
RRULE:FREQ=YEARLY;BYMONTH=3;BYDAY=-1SU
END:DAYLIGHT
BEGIN:STANDARD
TZOFFSETFROM:+0200
TZOFFSETTO:+0100
TZNAME:CET
DTSTART:19701025T030000
RRULE:FREQ=YEARLY;BYMONTH=10;BYDAY=-1SU
END:STANDARD
END:VTIMEZONE
BEGIN:VEVENT
UID:6318315:Event:60103
DTSTAMP:20260421T041808Z
SUMMARY:New Technologies for New Audiences
DESCRIPTION:How can new technology facilitate a positive change in the
  cultural life of new audiences, including hard to reach target groups
 ? Or more specifically, how can technology help to get to know them, l
 ook for them in new places & make new connections …\nExperts from th
 e Low Countries share their insights and present case studies to an in
 ternational gathering of audience developers.\nThis two day conference
  is offered to you by CultuurNet Vlaanderen, in association with SMIT 
 and Memori and with support of the Flemish Government, Grundtvig and A
 udiences Network Europe.\n \nMore information\n\nZie voor meer inform
 atie http://kenniskantoor.be/events/new-technologies-for-new-audiences
DTSTART;TZID=Europe/Brussels:20111206T000000
DTEND;TZID=Europe/Brussels:20111207T235900
CATEGORIES:conferentie
LOCATION:Kunstencentrum Vooruit Gent
WEBSITE:
URL:
CONTACT:
ORGANIZER:Cultuurnet Vlaanderen
ATTACH;FMTTYPE="image/jpeg":http://storage.ning.com/topology/rest/1.0/
 file/get/2638645601?profile=original
ATTENDEE;ROLE=REQ-PARTICIPANT;PARTSTAT=ACCEPTED;RSVP=TRUE;CN="Ilse Dep
 ré":http://kenniskantoor.be/profile/IlseDepre
END:VEVENT
END:VCALENDAR
