BEGIN:VCALENDAR
PRODID:NingEventWidget-v1
VERSION:2.0
METHOD:PUBLISH
BEGIN:VTIMEZONE
TZID:Europe/Brussels
X-LIC-LOCATION:Europe/Brussels
BEGIN:DAYLIGHT
TZOFFSETFROM:+0100
TZOFFSETTO:+0200
TZNAME:CEST
DTSTART:19700329T020000
RRULE:FREQ=YEARLY;BYMONTH=3;BYDAY=-1SU
END:DAYLIGHT
BEGIN:STANDARD
TZOFFSETFROM:+0200
TZOFFSETTO:+0100
TZNAME:CET
DTSTART:19701025T030000
RRULE:FREQ=YEARLY;BYMONTH=10;BYDAY=-1SU
END:STANDARD
END:VTIMEZONE
BEGIN:VEVENT
UID:6318315:Event:106105
DTSTAMP:20260420T043233Z
SUMMARY:Mijn Zadenbib Magical Mystery Tour: Provinciehuis Leuven
DESCRIPTION:Binnenkort is het zover. Uw klanten vragen wanneer uw bib 
 ook zaadjes gaat uitlenen. Lokale verenigingen stellen voor om samen t
 e werken. Kandidaat-vrijwilligers bieden spontaan hun diensten aan. Ge
 passioneerde medewerkers met groene vingers willen graag zaden invoere
 n in de catalogus. De milieudienst plaatst de bib centraal in haar act
 ieplan. De schooltuinen bloeien als nooit tevoren. De bib staat in het
  midden van de gemeenschap. De bijen komen terug. De pers wil weten wa
 arom jullie als laatste bibliotheek in Vlaanderen en Brussel nog geen 
 genetisch materiaal uitlenen. Laat het zover niet komen! Zonder zaden 
 zouden er geen boeken zijn!\nKies datum en plaats en schrijf u gratis
  in! Iedereen is meer dan welkom: bibliothecarissen, leidinggevenden, 
 medewerkers, milieudiensten, scholen, verenigingen,...\n\nZie voor mee
 r informatie http://kenniskantoor.be/events/mijn-zadenbib-magical-myst
 ery-tour-provinciehuis-leuven
DTSTART;TZID=Europe/Brussels:20130611T100000
DTEND;TZID=Europe/Brussels:20130611T120000
CATEGORIES:infosessie
LOCATION:Provinciehuis Leuven
WEBSITE:http://maps.google.be/maps?newwindow=1&hl=nl&bav=on.2,or.r_cp.
 r_qf.&bvm=bv.45645796,d.d2k&biw=1680&bih=925&um=1&ie=UTF-8&q=google+ma
 ps+provinciehuis+leuven&fb=1&gl=be&hq=provinciehuis&hnear=0x47c160d05e
 bbdf85:0x40099ab2f4d5690,Leuven&cid=0,0,4845366187114674512&sa=X&ei=Zu
 1-UffoHe-A0AWPkoCYBQ&ved=0CKcBEPwSMAA
URL:http://maps.google.be/maps?newwindow=1&hl=nl&bav=on.2,or.r_cp.r_qf
 .&bvm=bv.45645796,d.d2k&biw=1680&bih=925&um=1&ie=UTF-8&q=google+maps+p
 rovinciehuis+leuven&fb=1&gl=be&hq=provinciehuis&hnear=0x47c160d05ebbdf
 85:0x40099ab2f4d5690,Leuven&cid=0,0,4845366187114674512&sa=X&ei=Zu1-Uf
 foHe-A0AWPkoCYBQ&ved=0CKcBEPwSMAA
CONTACT:016-26 76 36
ORGANIZER:Tim Lerno & MijnTuin.org
ATTACH;FMTTYPE="image/jpeg":http://storage.ning.com/topology/rest/1.0/
 file/get/2312058231?profile=original
ATTENDEE;ROLE=REQ-PARTICIPANT;PARTSTAT=ACCEPTED;RSVP=TRUE;CN="Tim Lern
 o":http://kenniskantoor.be/profile/TimLerno
END:VEVENT
END:VCALENDAR
