BEGIN:VCALENDAR
PRODID:NingEventWidget-v1
VERSION:2.0
METHOD:PUBLISH
BEGIN:VTIMEZONE
TZID:Europe/Brussels
X-LIC-LOCATION:Europe/Brussels
BEGIN:DAYLIGHT
TZOFFSETFROM:+0100
TZOFFSETTO:+0200
TZNAME:CEST
DTSTART:19700329T020000
RRULE:FREQ=YEARLY;BYMONTH=3;BYDAY=-1SU
END:DAYLIGHT
BEGIN:STANDARD
TZOFFSETFROM:+0200
TZOFFSETTO:+0100
TZNAME:CET
DTSTART:19701025T030000
RRULE:FREQ=YEARLY;BYMONTH=10;BYDAY=-1SU
END:STANDARD
END:VTIMEZONE
BEGIN:VEVENT
UID:6318315:Event:105947
DTSTAMP:20260419T181539Z
SUMMARY:Mijn Zadenbib Magical Mystery Tour: Bib Beveren
DESCRIPTION:Binnenkort is het zover. Uw klanten vragen wanneer uw bib 
 ook zaadjes gaat uitlenen. Lokale verenigingen stellen voor om samen t
 e werken. Kandidaat-vrijwilligers bieden spontaan hun diensten aan. Ge
 passioneerde medewerkers met groene vingers willen graag zaden invoere
 n in de catalogus. De milieudienst plaatst de bib centraal in haar act
 ieplan. De schooltuinen bloeien als nooit tevoren. De bib staat in het
  midden van de gemeenschap. De bijen komen terug. De pers wil weten wa
 arom jullie als laatste bibliotheek in Vlaanderen en Brussel nog geen 
 genetisch materiaal uitlenen. Laat het zover niet komen! Zonder zaden 
 zouden er geen boeken zijn!\nKies datum en plaats en schrijf u gratis 
 in! Iedereen is meer dan welkom: bibliothecarissen, leidinggevenden, m
 edewerkers, milieudiensten, scholen, verenigingen,...\n\nZie voor meer
  informatie http://kenniskantoor.be/events/mijn-zadenbib-magical-myste
 ry-tour-in-bib-beveren
DTSTART;TZID=Europe/Brussels:20130522T100000
DTEND;TZID=Europe/Brussels:20130522T120000
CATEGORIES:infosessie
LOCATION:Bibliotheek Beveren
WEBSITE:http://maps.google.be/maps?newwindow=1&hl=nl&bav=on.2,or.r_cp.
 r_qf.&bvm=bv.45645796,d.d2k&biw=1680&bih=925&um=1&ie=UTF-8&q=google+ma
 ps+Bibliotheek+Beveren,+Gravenplein+3&fb=1&gl=be&hq=Bibliotheek&hnear=
 0x47c38b3372363b41:0xe46a917b4751a8aa,Gravenplein+3,+9120+Beveren&cid=
 0,0,3769948384215141124&sa=X&ei=CuV-UfynGenC0QXN_4DYAw&ved=0CI4BEPwSMA
 A
URL:http://maps.google.be/maps?newwindow=1&hl=nl&bav=on.2,or.r_cp.r_qf
 .&bvm=bv.45645796,d.d2k&biw=1680&bih=925&um=1&ie=UTF-8&q=google+maps+B
 ibliotheek+Beveren,+Gravenplein+3&fb=1&gl=be&hq=Bibliotheek&hnear=0x47
 c38b3372363b41:0xe46a917b4751a8aa,Gravenplein+3,+9120+Beveren&cid=0,0,
 3769948384215141124&sa=X&ei=CuV-UfynGenC0QXN_4DYAw&ved=0CI4BEPwSMAA
CONTACT:03 750 10 50
ORGANIZER:Tim Lerno (Bib Londerzeel) en MijnTuin.org
ATTACH;FMTTYPE="image/jpeg":http://storage.ning.com/topology/rest/1.0/
 file/get/2312058231?profile=original
ATTENDEE;ROLE=REQ-PARTICIPANT;PARTSTAT=ACCEPTED;RSVP=TRUE;CN="Liesbet-
 Ann Verbruggen":http://kenniskantoor.be/profile/LieselotVerbruggen
ATTENDEE;ROLE=REQ-PARTICIPANT;PARTSTAT=ACCEPTED;RSVP=TRUE;CN=Els:http:
 //kenniskantoor.be/profile/BibliotheekKruibeke
ATTENDEE;ROLE=REQ-PARTICIPANT;PARTSTAT=ACCEPTED;RSVP=TRUE;CN="Tim Lern
 o":http://kenniskantoor.be/profile/TimLerno
END:VEVENT
END:VCALENDAR
