BEGIN:VCALENDAR
PRODID:NingEventWidget-v1
VERSION:2.0
METHOD:PUBLISH
BEGIN:VTIMEZONE
TZID:Europe/Brussels
X-LIC-LOCATION:Europe/Brussels
BEGIN:DAYLIGHT
TZOFFSETFROM:+0100
TZOFFSETTO:+0200
TZNAME:CEST
DTSTART:19700329T020000
RRULE:FREQ=YEARLY;BYMONTH=3;BYDAY=-1SU
END:DAYLIGHT
BEGIN:STANDARD
TZOFFSETFROM:+0200
TZOFFSETTO:+0100
TZNAME:CET
DTSTART:19701025T030000
RRULE:FREQ=YEARLY;BYMONTH=10;BYDAY=-1SU
END:STANDARD
END:VTIMEZONE
BEGIN:VEVENT
UID:6318315:Event:106102
DTSTAMP:20260420T014205Z
SUMMARY:Mijn Zadenbib Magical Mystery Tour: Bib Balen
DESCRIPTION:Binnenkort is het zover. Uw klanten vragen wanneer uw bib 
 ook zaadjes gaat uitlenen. Lokale verenigingen stellen voor om samen t
 e werken. Kandidaat-vrijwilligers bieden spontaan hun diensten aan. Ge
 passioneerde medewerkers met groene vingers willen graag zaden invoere
 n in de catalogus. De milieudienst plaatst de bib centraal in haar act
 ieplan. De schooltuinen bloeien als nooit tevoren. De bib staat in het
  midden van de gemeenschap. De bijen komen terug. De pers wil weten wa
 arom jullie als laatste bibliotheek in Vlaanderen en Brussel nog geen 
 genetisch materiaal uitlenen. Laat het zover niet komen! Zonder zaden 
 zouden er geen boeken zijn!\nKies datum en plaats en schrijf u gratis
  in! Iedereen is meer dan welkom: bibliothecarissen, leidinggevenden, 
 medewerkers, milieudiensten, scholen, verenigingen,...\n\nZie voor mee
 r informatie http://kenniskantoor.be/events/mijn-zadenbib-magical-myst
 ery-tour-bib-balen
DTSTART;TZID=Europe/Brussels:20130604T100000
DTEND;TZID=Europe/Brussels:20130604T120000
CATEGORIES:infosessie
LOCATION:Bibliotheek Balen
WEBSITE:http://maps.google.be/maps?hl=nl&gs_rn=11&gs_ri=psy-ab&tok=aHK
 Jcs6l76n8pvL0czir-Q&pq=google+maps+de+bib+van+balen&cp=43&gs_id=cc&xhr
 =t&newwindow=1&bav=on.2,or.r_cp.r_qf.&bvm=bv.45645796,d.d2k&biw=1680&b
 ih=925&q=google+maps+Bevrijdingsstraat+1+2490+Balen&um=1&ie=UTF-8&hq=&
 hnear=0x47c13472d427ca1d:0xde1cdf2f06a06b37,Bevrijdingsstraat+1,+2490+
 Balen&gl=be&sa=X&ei=s-t-Uf7oB6bZ0QW_xYCYDA&sqi=2&ved=0CC8Q8gEwAA
URL:http://maps.google.be/maps?hl=nl&gs_rn=11&gs_ri=psy-ab&tok=aHKJcs6
 l76n8pvL0czir-Q&pq=google+maps+de+bib+van+balen&cp=43&gs_id=cc&xhr=t&n
 ewwindow=1&bav=on.2,or.r_cp.r_qf.&bvm=bv.45645796,d.d2k&biw=1680&bih=9
 25&q=google+maps+Bevrijdingsstraat+1+2490+Balen&um=1&ie=UTF-8&hq=&hnea
 r=0x47c13472d427ca1d:0xde1cdf2f06a06b37,Bevrijdingsstraat+1,+2490+Bale
 n&gl=be&sa=X&ei=s-t-Uf7oB6bZ0QW_xYCYDA&sqi=2&ved=0CC8Q8gEwAA
CONTACT:014/82 92 30
ORGANIZER:Tim Lerno & MijnTuin.org
ATTACH;FMTTYPE="image/jpeg":http://storage.ning.com/topology/rest/1.0/
 file/get/2312058231?profile=original
ATTENDEE;ROLE=REQ-PARTICIPANT;PARTSTAT=ACCEPTED;RSVP=TRUE;CN="Tim Lern
 o":http://kenniskantoor.be/profile/TimLerno
END:VEVENT
END:VCALENDAR
