BEGIN:VCALENDAR
PRODID:NingEventWidget-v1
VERSION:2.0
METHOD:PUBLISH
BEGIN:VTIMEZONE
TZID:Europe/Brussels
X-LIC-LOCATION:Europe/Brussels
BEGIN:DAYLIGHT
TZOFFSETFROM:+0100
TZOFFSETTO:+0200
TZNAME:CEST
DTSTART:19700329T020000
RRULE:FREQ=YEARLY;BYMONTH=3;BYDAY=-1SU
END:DAYLIGHT
BEGIN:STANDARD
TZOFFSETFROM:+0200
TZOFFSETTO:+0100
TZNAME:CET
DTSTART:19701025T030000
RRULE:FREQ=YEARLY;BYMONTH=10;BYDAY=-1SU
END:STANDARD
END:VTIMEZONE
BEGIN:VEVENT
UID:6318315:Event:67408
DTSTAMP:20260421T064107Z
SUMMARY:Met Delphi naar een vraaggericht informatienetwerk
DESCRIPTION:(Openbare) bibliotheken staan voor ingrijpende verandering
 en. Tot op heden lag het accent op het verzamelen en toegankelijk make
 n van collecties. Een Delphi bibliotheek organiseert haar dienstverlen
 ing evenwel vanuit haar vermogen om het antwoord op vragen te vinden. 
 De Delphi bibliotheek specialiseert zich in het prikkelen tot vragen s
 tellen, het helder krijgen van vragen, het ontdekken van de vraag acht
 er de vraag. Bij haar zoektocht naar de antwoorden wil ze graag ruggen
 steun van domeinspecifieke kenniscentra. De weg wordt daarmee geopend 
 voor een nieuw structureel samenwerkingsmodel voor verschillende bibli
 otheektypes. (www.delphibibliotheken.be)\nInschrijven: http://www.abd-
 bvd.be/ins/re_me/form_re.php\nAlle ABD-BVD-activiteiten zijn gratis v
 oor leden (lidmaatschap:http://www.abd-bvd.be/index.php?page=inc/lidm&
 lang=nl )\nNiet leden: 25euro.\n\nZie voor meer informatie http://ken
 niskantoor.be/events/met-delphi-naar-een-vraaggericht-informatienetwer
 k
DTSTART;TZID=Europe/Brussels:20120202T143000
DTEND;TZID=Europe/Brussels:20120202T163000
CATEGORIES:studienamiddag
LOCATION:Koninklijke Bibliotheek van België (audiovisuele zaal)
WEBSITE:http://www.kbr.be/informations/informations_nl.html
URL:http://www.kbr.be/informations/informations_nl.html
CONTACT:
ORGANIZER;CN="Marc Van den Bergh":http://kenniskantoor.be/profile/Marc
 VandenBergh
ATTACH;FMTTYPE="image/jpeg":
ATTENDEE;ROLE=REQ-PARTICIPANT;PARTSTAT=ACCEPTED;RSVP=TRUE;CN="Dulsster
  Marijke":http://kenniskantoor.be/profile/DulssterMarijke
ATTENDEE;ROLE=REQ-PARTICIPANT;PARTSTAT=ACCEPTED;RSVP=TRUE;CN="Marc Van
  den Bergh":http://kenniskantoor.be/profile/MarcVandenBergh
ATTENDEE;ROLE=REQ-PARTICIPANT;PARTSTAT=TENTATIVE;RSVP=TRUE;CN="geert.l
 ievens":http://kenniskantoor.be/profile/geertlievens
END:VEVENT
END:VCALENDAR
