BEGIN:VCALENDAR
PRODID:NingEventWidget-v1
VERSION:2.0
METHOD:PUBLISH
BEGIN:VTIMEZONE
TZID:Europe/Brussels
X-LIC-LOCATION:Europe/Brussels
BEGIN:DAYLIGHT
TZOFFSETFROM:+0100
TZOFFSETTO:+0200
TZNAME:CEST
DTSTART:19700329T020000
RRULE:FREQ=YEARLY;BYMONTH=3;BYDAY=-1SU
END:DAYLIGHT
BEGIN:STANDARD
TZOFFSETFROM:+0200
TZOFFSETTO:+0100
TZNAME:CET
DTSTART:19701025T030000
RRULE:FREQ=YEARLY;BYMONTH=10;BYDAY=-1SU
END:STANDARD
END:VTIMEZONE
BEGIN:VEVENT
UID:6318315:Event:28801
DTSTAMP:20260419T162104Z
SUMMARY:Mark Meekers
DESCRIPTION:Geachte mevrouw / heer, mogelijk zijn uw lezers in onderst
 aand bericht geïnteresseerd?\n-\nPoëzievriend/in,\nZaterdag 28 mei, 
 om 13.00 uur start de 25-ste Conceptdag onder voorzitterschap van Mark
  Meekers. Deze samenkomst van Nederlandse en Vlaamse dichters in het C
 ultureel Centrum ‘De Ster’ te Ichtegem-Eernegem zet in met een aca
 demische zitting. De heer burgemeester, de schepen van cultuur en de v
 oorzitter voeren het woord.\nDaarop volgt de proclamatie van de 25-ste
  Concept Poëzieprijs. Een gekend Nederlands dichter wint, de tweede p
 rijs gaat naar een aanstormend Vlaams talent.\nNa de pauze komt een ui
 tgebreid vrij podium, gevolgd door een bezoek aan de Poëzietuin in Ee
 rnegem. \nDe dag wordt afgesloten met een dichtersdiner.\nNaast de ob
 ligate bloemlezing ontvangen de deelnemers gratis een publicatie “Ve
 rbarium.”\nUitgaven:\n-          Mark Meekers –Atze Van W
 ieren, Finale, uitgave Concept, Brugge-Nuenen, 2011, 160 p.\n-    
       Atze Van Wieren en Riet De Bakker stellen de bundel Verbari
 um voor. Mark Meekers beschrijft hierin uitvoerig de historiek van 25 
 jaar Concept en selecteert 75 gedichten uit de jaarlijkse poëzieprijz
 en.   Deze bloemlezing is een uitgave van Concept, Brugge-Nuenen, 20
 11, 96 p. Het is de vijftigste publicatie van Mark Meekers in boekvorm
 .\n \nMet poëtische groet,\nMark Meekers, voorziter van de Vlaams-Ne
 derlandse literaire vereninging Concept\n\nZie voor meer informatie ht
 tp://kenniskantoor.be/events/mark-meekers
DTSTART;TZID=Europe/Brussels:20110528T000000
DTEND;TZID=Europe/Brussels:20110528T235900
CATEGORIES:poeziefeest
LOCATION:Ichtegem-Eernegem, Cultureel Centrum \"De Ster\"
WEBSITE:
URL:
CONTACT:059/299640
ORGANIZER;CN="Mark Meekers":http://kenniskantoor.be/profile/MarkMeeker
 s
ATTACH;FMTTYPE="image/jpeg":
ATTENDEE;ROLE=REQ-PARTICIPANT;PARTSTAT=ACCEPTED;RSVP=TRUE;CN="Mark Mee
 kers":http://kenniskantoor.be/profile/MarkMeekers
END:VEVENT
END:VCALENDAR
