BEGIN:VCALENDAR
PRODID:NingEventWidget-v1
VERSION:2.0
METHOD:PUBLISH
BEGIN:VTIMEZONE
TZID:Europe/Brussels
X-LIC-LOCATION:Europe/Brussels
BEGIN:DAYLIGHT
TZOFFSETFROM:+0100
TZOFFSETTO:+0200
TZNAME:CEST
DTSTART:19700329T020000
RRULE:FREQ=YEARLY;BYMONTH=3;BYDAY=-1SU
END:DAYLIGHT
BEGIN:STANDARD
TZOFFSETFROM:+0200
TZOFFSETTO:+0100
TZNAME:CET
DTSTART:19701025T030000
RRULE:FREQ=YEARLY;BYMONTH=10;BYDAY=-1SU
END:STANDARD
END:VTIMEZONE
BEGIN:VEVENT
UID:6318315:Event:107013
DTSTAMP:20260420T072145Z
SUMMARY:LOCUStoer 2013
DESCRIPTION:We nodigen u vriendelijk uit op POST! U checkt in aan de 
 loketten van de Grote Post in Oostende voor een inspirerende toer lang
 s praktijken, sprekers en workshops. Verwacht u op dit jaarlijks ne
 twerkmoment aan de nieuwste lichtingen, een interactief ideeënsorteer
 centrum en innovatieve experimenten. En we komen te weten wie winnaar
  van de Prijs van de Vlaamse Gemeenschap voor het lokaal cultuurbeleid
  wordt!\nBekijk het programma en schrijf in\n\nZie voor meer informati
 e http://kenniskantoor.be/events/locustoer-2013
DTSTART;TZID=Europe/Brussels:20130614T093000
DTEND;TZID=Europe/Brussels:20130614T170000
CATEGORIES:studiedag
LOCATION:Grote Post
WEBSITE:http://www.degrotepost.be/contact
URL:http://www.degrotepost.be/contact
CONTACT:
ORGANIZER:LOCUS
ATTACH;FMTTYPE="image/jpeg":http://storage.ning.com/topology/rest/1.0/
 file/get/2638662612?profile=original
ATTENDEE;ROLE=REQ-PARTICIPANT;PARTSTAT=ACCEPTED;RSVP=TRUE;CN="Jan Coll
 et":http://kenniskantoor.be/profile/JanCollet
ATTENDEE;ROLE=REQ-PARTICIPANT;PARTSTAT=ACCEPTED;RSVP=TRUE;CN="Marleen 
 Maes":http://kenniskantoor.be/profile/MarleenMaes
ATTENDEE;ROLE=REQ-PARTICIPANT;PARTSTAT=ACCEPTED;RSVP=TRUE;CN="Tim Merc
 kx":http://kenniskantoor.be/profile/TimMerckx
ATTENDEE;ROLE=REQ-PARTICIPANT;PARTSTAT=ACCEPTED;RSVP=TRUE;CN="carol va
 nhoutte":http://kenniskantoor.be/profile/carolvanhoutte
ATTENDEE;ROLE=REQ-PARTICIPANT;PARTSTAT=ACCEPTED;RSVP=TRUE;CN="Martine 
 Vandermaes":http://kenniskantoor.be/profile/MartineVandermaes
ATTENDEE;ROLE=REQ-PARTICIPANT;PARTSTAT=ACCEPTED;RSVP=TRUE;CN="maike so
 mers":http://kenniskantoor.be/profile/maikesomers
ATTENDEE;ROLE=REQ-PARTICIPANT;PARTSTAT=ACCEPTED;RSVP=TRUE;CN="Philippe
  Liesenborghs":http://kenniskantoor.be/profile/PhilippeLiesenborghs
ATTENDEE;ROLE=REQ-PARTICIPANT;PARTSTAT=TENTATIVE;RSVP=TRUE;CN="Chris D
 e Bremme":http://kenniskantoor.be/profile/ChrisDeBremme
END:VEVENT
END:VCALENDAR
