BEGIN:VCALENDAR
PRODID:NingEventWidget-v1
VERSION:2.0
METHOD:PUBLISH
BEGIN:VTIMEZONE
TZID:Europe/Brussels
X-LIC-LOCATION:Europe/Brussels
BEGIN:DAYLIGHT
TZOFFSETFROM:+0100
TZOFFSETTO:+0200
TZNAME:CEST
DTSTART:19700329T020000
RRULE:FREQ=YEARLY;BYMONTH=3;BYDAY=-1SU
END:DAYLIGHT
BEGIN:STANDARD
TZOFFSETFROM:+0200
TZOFFSETTO:+0100
TZNAME:CET
DTSTART:19701025T030000
RRULE:FREQ=YEARLY;BYMONTH=10;BYDAY=-1SU
END:STANDARD
END:VTIMEZONE
BEGIN:VEVENT
UID:6318315:Event:12220
DTSTAMP:20260419T140202Z
SUMMARY:\"Laat ze strips lezen\", door Prof. Jan Cumps
DESCRIPTION:Kurt Morissens en Jan Cumps (r.) geven in dit boek suggest
 ies voor het gebruik van strips op school, thuis en in de bibliotheek.
  Jan Cumps: 'Wie weinig van strips kent, denkt dat ze alleen geschikt 
 zijn voor kinderen. Dat is een vergissing.'\n \nVolgende onderwerpen 
 komen o.a. aan bod:\n-          Wat verstaan we onder “een 
 goede strip” ?\n-          Wat is de relatie van de strip m
 et taal en literatuur ?\n-          Wat is een graphic novel 
 ?\n-          Leidt het lezen van strips tot leesluiheid ?\n-
           Stereotiepe personages in de strip\n-       
    Tips voor strips\n \nDeze interessante  lezing vindt plaats op 
 dinsdag 26 april 2011 om 20.00 u in de polyvalente zaal van de bibliot
 heek. De toegang is gratis.\n \nPlaatsreservatie is noodzakelijk via 
 bibliotheek@temse.be of 03/710.13.20.\n \n\nZie voor meer informatie 
 http://kenniskantoor.be/events/laat-ze-strips-lezen-door-prof
DTSTART;TZID=Europe/Brussels:20110426T200000
DTEND;TZID=Europe/Brussels:20110426T223000
CATEGORIES:lezing
LOCATION:Bibliotheek Temse
WEBSITE:
URL:
CONTACT:03 710 13 20
ORGANIZER;CN="Marijke Dierickx":http://kenniskantoor.be/profile/Marijk
 eDierickx
ATTACH;FMTTYPE="image/jpeg":http://storage.ning.com/topology/rest/1.0/
 file/get/2638637605?profile=original
ATTENDEE;ROLE=REQ-PARTICIPANT;PARTSTAT=ACCEPTED;RSVP=TRUE;CN="Marijke 
 Dierickx":http://kenniskantoor.be/profile/MarijkeDierickx
END:VEVENT
END:VCALENDAR
