BEGIN:VCALENDAR
PRODID:NingEventWidget-v1
VERSION:2.0
METHOD:PUBLISH
BEGIN:VTIMEZONE
TZID:Europe/Brussels
X-LIC-LOCATION:Europe/Brussels
BEGIN:DAYLIGHT
TZOFFSETFROM:+0100
TZOFFSETTO:+0200
TZNAME:CEST
DTSTART:19700329T020000
RRULE:FREQ=YEARLY;BYMONTH=3;BYDAY=-1SU
END:DAYLIGHT
BEGIN:STANDARD
TZOFFSETFROM:+0200
TZOFFSETTO:+0100
TZNAME:CET
DTSTART:19701025T030000
RRULE:FREQ=YEARLY;BYMONTH=10;BYDAY=-1SU
END:STANDARD
END:VTIMEZONE
BEGIN:VEVENT
UID:6318315:Event:55819
DTSTAMP:20260420T203652Z
SUMMARY:Klare taal, goed verhaal: Wablieft-studiedag over boeken voor 
 moeilijke lezers (tieners en volwassenen)
DESCRIPTION:Wablieft-studiedag over boeken voor moeilijke lezers\nKlar
 e taal, goed verhaal:\nWablieft-studiedag over boeken voor moeilijke l
 ezers (tieners en volwassenen)\nOp 18 november organiseert Wablieft, h
 et Centrum voor Duidelijke Taal, een studiedag over boeken voor moeil
 ijke lezers. Hoe kan je volwassenen en tieners met leesproblemen zin d
 oen krijgen in boeken? Hoe zorg je dat een boek-ervaring een ervaring 
 wordt van leesplezier? Hoe krijg je moeilijke lezers naar de bibliothe
 ek? Welk aanbod is er voor moeilijke lezers en waar vind je het? Op di
 e en nog veel meervragen biedt deze studiedag een antwoord. \nPraktis
 che info\nDatum en uur: Vrijdag 18 november, 9.30 uur - 16.00 uurAdres
 : Bibliotheek Gent, Graaf van Vlaanderenplein 40, GentInschrijven: 40 
 euro voor de hele dag, inclusief broodjeslunch. 20 euro voor een halve
  dag (zonder lunch).\nVoor uitgebreide info over sessies en timing:\nw
 ww.wablieft.be/wablieft/studiedag\n\n\n\n\n\nZie voor meer informatie 
 http://kenniskantoor.be/events/klare-taal-goed-verhaal-wablieft-studie
 dag-over-boeken-voor
DTSTART;TZID=Europe/Brussels:20111118T093000
DTEND;TZID=Europe/Brussels:20111118T160000
CATEGORIES:studiedag
LOCATION:Bibliotheek Gent
WEBSITE:
URL:
CONTACT:015 44 65 09
ORGANIZER;CN="Ruud Meert":http://kenniskantoor.be/profile/RuudMeert
ATTACH;FMTTYPE="image/jpeg":
ATTENDEE;ROLE=REQ-PARTICIPANT;PARTSTAT=ACCEPTED;RSVP=TRUE;CN="Anne-Mar
 ie Van Raepenbusch":http://kenniskantoor.be/profile/AnneMarieVanRaepen
 busch
ATTENDEE;ROLE=REQ-PARTICIPANT;PARTSTAT=ACCEPTED;RSVP=TRUE;CN="Ruud Mee
 rt":http://kenniskantoor.be/profile/RuudMeert
END:VEVENT
END:VCALENDAR
