BEGIN:VCALENDAR
PRODID:NingEventWidget-v1
VERSION:2.0
METHOD:PUBLISH
BEGIN:VTIMEZONE
TZID:Europe/Brussels
X-LIC-LOCATION:Europe/Brussels
BEGIN:DAYLIGHT
TZOFFSETFROM:+0100
TZOFFSETTO:+0200
TZNAME:CEST
DTSTART:19700329T020000
RRULE:FREQ=YEARLY;BYMONTH=3;BYDAY=-1SU
END:DAYLIGHT
BEGIN:STANDARD
TZOFFSETFROM:+0200
TZOFFSETTO:+0100
TZNAME:CET
DTSTART:19701025T030000
RRULE:FREQ=YEARLY;BYMONTH=10;BYDAY=-1SU
END:STANDARD
END:VTIMEZONE
BEGIN:VEVENT
UID:6318315:Event:51423
DTSTAMP:20260421T080015Z
SUMMARY:Inktaap
DESCRIPTION:Beste bibliotheekmedewerker, \nDe Inktaap 2012 is van star
 t gegaan!\nDe Inktaap is een leesbevorderingsproject waarbij leerlinge
 n uit de derde graad van het secundair in Nederland, Vlaanderen, Surin
 ame en Curaçao de kans krijgen hun favoriete boek te bekronen.\nDe ge
 nomineerde boeken voor De Inktaap 2012 zijn:\nDe maagd Marino – Yves
  Petry (winnaar Libris Literatuurprijs 2011)  Congo: een geschiedenis 
 - David Van Reybrouck (winnaar AKO Literatuurprijs 2010)  De schilder 
 en het meisje - Margriet de Moor (Tiplijst AKO literatuurprijs 2010 - 
 Longlist Libris Literatuur Prijs 2011)\n \nWilt u op de hoogte blijve
 n van dit project? Surf dan naar www.inktaap.org of volg ons op Facebo
 ok en/of Twitter.  \n Met vriendelijke groet,\n De Inktaap / VILLANELL
 A T: 03/260 96 10\n \n\nZie voor meer informatie http://kenniskantoor
 .be/events/inktaap
DTSTART;TZID=Europe/Brussels:20120311T060000
DTEND;TZID=Europe/Brussels:20120312T000000
CATEGORIES:jongerenliteratuurprijs
LOCATION:Vlaanderen
WEBSITE:http://www.inktaap.org
URL:http://www.inktaap.org
CONTACT:03/2609610
ORGANIZER:Inktaap
ATTACH;FMTTYPE="image/jpeg":http://storage.ning.com/topology/rest/1.0/
 file/get/2638642385?profile=original
ATTENDEE;ROLE=REQ-PARTICIPANT;PARTSTAT=ACCEPTED;RSVP=TRUE;CN="Hadewych
  De Prins":http://kenniskantoor.be/profile/HadewychDePrins
END:VEVENT
END:VCALENDAR
