BEGIN:VCALENDAR
PRODID:NingEventWidget-v1
VERSION:2.0
METHOD:PUBLISH
BEGIN:VTIMEZONE
TZID:Europe/Brussels
X-LIC-LOCATION:Europe/Brussels
BEGIN:DAYLIGHT
TZOFFSETFROM:+0100
TZOFFSETTO:+0200
TZNAME:CEST
DTSTART:19700329T020000
RRULE:FREQ=YEARLY;BYMONTH=3;BYDAY=-1SU
END:DAYLIGHT
BEGIN:STANDARD
TZOFFSETFROM:+0200
TZOFFSETTO:+0100
TZNAME:CET
DTSTART:19701025T030000
RRULE:FREQ=YEARLY;BYMONTH=10;BYDAY=-1SU
END:STANDARD
END:VTIMEZONE
BEGIN:VEVENT
UID:6318315:Event:55795
DTSTAMP:20260421T031909Z
SUMMARY:Inforonde decreet lokaal cultuurbeleid en beleids- en beheercy
 clus
DESCRIPTION:Nog dit najaar organiseert LOCUS samen met het Agentschap 
 voor Sociaal-Cultureel Werk een inforonde door Vlaanderen over het ver
 nieuwde decreet lokaal cultuurbeleid dat eerstdaags door de Vlaamse Re
 gering besproken wordt. U krijgt er, na de eerste toelichting op de vo
 orbije junitoer, duiding bij de definitieve versie. We maken er meteen
  gebruik van om u grondig te informeren over de aankomende beheers- en
  beleidscyclus, samen met het Agentschap voor Binnenlands Bestuur. Een
  en ander krijgt duiding door de uitgebreide bespreking van een concre
 et praktijkvoorbeeld uit een pilootgemeente. Er zal ruim tijd zijn voo
 r vragen en discussie, waarbij we expliciet peilen naar uw behoeften v
 oor verdere ondersteuning. Die plannen we dan in 2012 !\nProgramma \nâ
 €¢ Verwelkoming (Miek De Kepper, LOCUS)\n\nâ€¢ â€˜De beleids- en behee
 rcyclus voor u toegelichtâ€™ (Jan Pauwels, Agentschap Binnenlands Best
 uur)\n\nâ€¢ Toelichting vernieuwde decreet lokaal cultuurbeleid (Mia D
 e Smedt/Geert Roelandts, Agentschap Sociaal-Cultureel Werk voor Jeugd 
 en Volwassenen)\n\nâ€¢ â€˜De nieuwe beleids- en beheercyclus. Laat ied
 ereen weten wat je doetâ€¦â€™ (Erwin Vandenbergh, verantwoordelijke be
 leidsdomein personeel en organisatie en voormalig afdelingshoofd Cultu
 ur&Vrije Tijd, gemeente Mol)\n\nTijdstip\nDinsdag 6 december\n13u: ont
 haal\n13u30-16u30: infosessie\nLocatie\nSteM, Stedelijk Museum, Zwijge
 rshoek 14, Sint Niklaas\nKostprijs\n10 euro pp\nInschrijven kan hier\n
 De inforonde zal naast Sint-Niklaas ook doorgaan in Antwerpen, Izegem,
  Genk en Brussel Info: http://www.locusnet.be/portaal/Locus/Organisati
 e/Activiteiten\n\nZie voor meer informatie http://kenniskantoor.be/eve
 nts/inforonde-decreet-lokaal-cultuurbeleid-en-beleids-en-beheercycl-4
DTSTART;TZID=Europe/Brussels:20111206T130000
DTEND;TZID=Europe/Brussels:20111206T163000
CATEGORIES:infosessie
LOCATION:SteM, Stedelijk Museum
WEBSITE:
URL:
CONTACT:02/213.10.45
ORGANIZER:LOCUS
ATTACH;FMTTYPE="image/jpeg":
ATTENDEE;ROLE=REQ-PARTICIPANT;PARTSTAT=ACCEPTED;RSVP=TRUE;CN="Philippe
  Liesenborghs":http://kenniskantoor.be/profile/PhilippeLiesenborghs
END:VEVENT
END:VCALENDAR
