BEGIN:VCALENDAR
PRODID:NingEventWidget-v1
VERSION:2.0
METHOD:PUBLISH
BEGIN:VTIMEZONE
TZID:Europe/Brussels
X-LIC-LOCATION:Europe/Brussels
BEGIN:DAYLIGHT
TZOFFSETFROM:+0100
TZOFFSETTO:+0200
TZNAME:CEST
DTSTART:19700329T020000
RRULE:FREQ=YEARLY;BYMONTH=3;BYDAY=-1SU
END:DAYLIGHT
BEGIN:STANDARD
TZOFFSETFROM:+0200
TZOFFSETTO:+0100
TZNAME:CET
DTSTART:19701025T030000
RRULE:FREQ=YEARLY;BYMONTH=10;BYDAY=-1SU
END:STANDARD
END:VTIMEZONE
BEGIN:VEVENT
UID:6318315:Event:55792
DTSTAMP:20260420T162200Z
SUMMARY:Inforonde decreet lokaal cultuurbeleid en beleids- en beheercy
 clus
DESCRIPTION:Nog dit najaar organiseert LOCUS samen met het Agentschap 
 voor Sociaal-Cultureel Werk een inforonde door Vlaanderen over het ver
 nieuwde decreet lokaal cultuurbeleid dat eerstdaags door de Vlaamse Re
 gering besproken wordt. U krijgt er, na de eerste toelichting op de vo
 orbije junitoer, duiding bij de definitieve versie. We maken er meteen
  gebruik van om u grondig te informeren over de aankomende beheers- en
  beleidscyclus, samen met het Agentschap voor Binnenlands Bestuur. Een
  en ander krijgt duiding door de uitgebreide bespreking van een concre
 et praktijkvoorbeeld uit een pilootgemeente. Er zal ruim tijd zijn voo
 r vragen en discussie, waarbij we expliciet peilen naar uw behoeften v
 oor verdere ondersteuning. Die plannen we dan in 2012 ! \nProgramma\n\
 n• Verwelkoming (Miek De Kepper, LOCUS)\n• ‘De beleids- en behee
 rcyclus voor u toegelicht’ (Jan Pauwels, Agentschap Binnenlands Best
 uur)\n• Toelichting vernieuwde decreet lokaal cultuurbeleid (Mia De 
 Smedt/Geert Roelandts, Agentschap Sociaal-Cultureel Werk voor Jeugd en
  Volwassenen)\n• ‘De nieuwe beleids- en beheercyclus. Laat iederee
 n weten wat je doet…’ (Erwin Vandenbergh, verantwoordelijke beleid
 sdomein personeel en organisatie en voormalig afdelingshoofd Cultuur&V
 rije Tijd, gemeente Mol)\n\nTijdstip\nWoensdag 23 november \n13u: onth
 aal\n13u30-16u30: infosessie\n\nLocatie\nCultuurhuis De Leest\nSint-Jo
 risstraat 62\nIzegem\nwww.deleest.be\nKostprijs\n10 euro pp\nInschrijv
 en doet u hier\n \nDe inforonde zal naast Izegem ook doorgaan in Antw
 erpen, Brussel, Genk en Sint-Niklaas. Info: http://www.locusnet.be/por
 taal/Locus/Organisatie/Activiteiten\n\nZie voor meer informatie http:/
 /kenniskantoor.be/events/inforonde-decreet-lokaal-cultuurbeleid-en-bel
 eids-en-beheercycl-2
DTSTART;TZID=Europe/Brussels:20111123T130000
DTEND;TZID=Europe/Brussels:20111123T163000
CATEGORIES:infosessie
LOCATION:Cultuurhuis De Leest
WEBSITE:http://www.deleest.be
URL:http://www.deleest.be
CONTACT:02/213.10.45
ORGANIZER:LOCUS
ATTACH;FMTTYPE="image/jpeg":
ATTENDEE;ROLE=REQ-PARTICIPANT;PARTSTAT=ACCEPTED;RSVP=TRUE;CN="Philippe
  Liesenborghs":http://kenniskantoor.be/profile/PhilippeLiesenborghs
END:VEVENT
END:VCALENDAR
