BEGIN:VCALENDAR
PRODID:NingEventWidget-v1
VERSION:2.0
METHOD:PUBLISH
BEGIN:VTIMEZONE
TZID:Europe/Brussels
X-LIC-LOCATION:Europe/Brussels
BEGIN:DAYLIGHT
TZOFFSETFROM:+0100
TZOFFSETTO:+0200
TZNAME:CEST
DTSTART:19700329T020000
RRULE:FREQ=YEARLY;BYMONTH=3;BYDAY=-1SU
END:DAYLIGHT
BEGIN:STANDARD
TZOFFSETFROM:+0200
TZOFFSETTO:+0100
TZNAME:CET
DTSTART:19701025T030000
RRULE:FREQ=YEARLY;BYMONTH=10;BYDAY=-1SU
END:STANDARD
END:VTIMEZONE
BEGIN:VEVENT
UID:6318315:Event:55787
DTSTAMP:20260420T220121Z
SUMMARY:Inforonde decreet lokaal cultuurbeleid en beleids- en beheercy
 clus
DESCRIPTION:Nog dit najaar organiseert LOCUS samen met het Agentschap 
 voor Sociaal-Cultureel Werk een inforonde door Vlaanderen over het ver
 nieuwde decreet lokaal cultuurbeleid dat eerstdaags door de Vlaamse Re
 gering besproken wordt. U krijgt er, na de eerste toelichting op de vo
 orbije junitoer, duiding bij de definitieve versie. We maken er meteen
  gebruik van om u grondig te informeren over de aankomende beheers- en
  beleidscyclus, samen met het Agentschap voor Binnenlands Bestuur. Een
  en ander krijgt duiding door de uitgebreide bespreking van een concre
 et praktijkvoorbeeld uit een pilootgemeente. Er zal ruim tijd zijn voo
 r vragen en discussie, waarbij we expliciet peilen naar uw behoeften v
 oor verdere ondersteuning. Die plannen we dan in 2012 !\n Programma\n\
 n• Verwelkoming (Miek De Kepper, LOCUS)\n• ‘De beleids- en behee
 rcyclus voor u toegelicht’ (Jan Pauwels, Agentschap Binnenlands Best
 uur)\n• Toelichting vernieuwde decreet lokaal cultuurbeleid (Mia De 
 Smedt/Geert Roelandts, Agentschap Sociaal-Cultureel Werk voor Jeugd en
  Volwassenen)\n• ‘De nieuwe beleids- en beheercyclus. Laat iederee
 n weten wat je doet…’ (Erwin Vandenbergh, verantwoordelijke beleid
 sdomein personeel en organisatie en voormalig afdelingshoofd Cultuur&V
 rije Tijd, gemeente Mol)\n\nTijdstip\nWoensdag 16 november\n13u: ontha
 al\n13u30-16u30: infosessie\n\nLocatie\nBibliotheek Permeke\n De Conin
 ckplein 25\nAntwerpen\n\nKostprijs\n10 euro pp \n Inschrijven doet u 
 hier\n \nDe inforonde zal naast Antwerpen ook doorgaan in Brussel, Iz
 egem, Genk en Sint-Niklaas. Info: http://www.locusnet.be/portaal/Locus
 /Organisatie/Activiteiten\n\nZie voor meer informatie http://kenniskan
 toor.be/events/inforonde-decreet-lokaal-cultuurbeleid-en-beleids-en-be
 heercycl-1
DTSTART;TZID=Europe/Brussels:20111116T130000
DTEND;TZID=Europe/Brussels:20111116T163000
CATEGORIES:infosessie
LOCATION:Bibliotheek Permeke
WEBSITE:
URL:
CONTACT:02/213.10.45
ORGANIZER:LOCUS
ATTACH;FMTTYPE="image/jpeg":
ATTENDEE;ROLE=REQ-PARTICIPANT;PARTSTAT=ACCEPTED;RSVP=TRUE;CN="inge goo
 ssens":http://kenniskantoor.be/profile/Inge
ATTENDEE;ROLE=REQ-PARTICIPANT;PARTSTAT=ACCEPTED;RSVP=TRUE;CN="Philippe
  Liesenborghs":http://kenniskantoor.be/profile/PhilippeLiesenborghs
ATTENDEE;ROLE=REQ-PARTICIPANT;PARTSTAT=ACCEPTED;RSVP=TRUE;CN="Marleen 
 Rome":http://kenniskantoor.be/profile/MarleenRome
END:VEVENT
END:VCALENDAR
