BEGIN:VCALENDAR
PRODID:NingEventWidget-v1
VERSION:2.0
METHOD:PUBLISH
BEGIN:VTIMEZONE
TZID:Europe/Brussels
X-LIC-LOCATION:Europe/Brussels
BEGIN:DAYLIGHT
TZOFFSETFROM:+0100
TZOFFSETTO:+0200
TZNAME:CEST
DTSTART:19700329T020000
RRULE:FREQ=YEARLY;BYMONTH=3;BYDAY=-1SU
END:DAYLIGHT
BEGIN:STANDARD
TZOFFSETFROM:+0200
TZOFFSETTO:+0100
TZNAME:CET
DTSTART:19701025T030000
RRULE:FREQ=YEARLY;BYMONTH=10;BYDAY=-1SU
END:STANDARD
END:VTIMEZONE
BEGIN:VEVENT
UID:6318315:Event:20865
DTSTAMP:20260421T101722Z
SUMMARY:e-Reading Event 2011
DESCRIPTION:BENT U VOORBEREID OP HET NIEUWE LEZEN?\n\nDe grote introdu
 ctie van de e–reader in 2009 en van de iPad in 2010 hebben een revol
 utie veroorzaakt in het lezen van informatie, of het nu om boeken, tij
 dschriften of kranten gaat. Van de iPad werden nu al meer dan 10,000,0
 00 stuks verkocht en een nieuw model komt in 2011.\n\nE–reading word
 t de nieuwe manier van lezen. Uitgevers zoeken naar gepaste modellen o
 m in te spelen op deze ontwikkeling. De consument twijfelt tussen de\n
 e–reader op basis van e–ink, de tablet, de smartphone of de netboo
 k. Ondertussen de leveranciers vertwijfeld achterlatend. Vooral de tab
 let zal bovendien steeds meer toegepast worden in zakelijke bedrijfsom
 gevingen, waarbij integratie met workflow systemen, document managemen
 t systemen en collaboration software een grote rol zal spelen.\n\nDe g
 rote merken uit de IT–, Telecom–en Consumer Electronics Industrie 
 kondigden ruim zestig nieuwe tablets en nieuwe schermtechnologieÃ«n 
 aan tijdens CES in Las Vegas. Google staat klaar met miljoenen digital
 e boeken en heeft plannen voor een magazine market. Met al deze gegeve
 ns zoekt nu iedereen naar geschikte businessmodellen.\n\nAlgemeen them
 a: De toekomst van e-reading\n\nHet e-reading event behandelt de digit
 ale ontwikkelingen en de impact daarvan op zowel de papieren als digit
 ale wereld. Het e-reading event 2011 geeft u inzicht in kansen en bedr
 eigingen en biedt een realistische kijk op deze snel veranderende mark
 t. Voor u als professional is dit een niet te missen evenement\n\nMeer
  info: http://www.tmabevents.be/e-reading-nl.html\n\nZie voor meer inf
 ormatie http://kenniskantoor.be/events/ereading-event-2011
DTSTART;TZID=Europe/Brussels:20110609T094500
DTEND;TZID=Europe/Brussels:20110609T180000
CATEGORIES:congres
LOCATION:Lessius Mechelen
WEBSITE:
URL:
CONTACT:+32 52 65 00 23
ORGANIZER:TMAB Business Events (Joeri Baczkowski)
ATTACH;FMTTYPE="image/jpeg":http://storage.ning.com/topology/rest/1.0/
 file/get/2638668206?profile=original
ATTENDEE;ROLE=REQ-PARTICIPANT;PARTSTAT=ACCEPTED;RSVP=TRUE;CN="geert.li
 evens":http://kenniskantoor.be/profile/geertlievens
ATTENDEE;ROLE=REQ-PARTICIPANT;PARTSTAT=TENTATIVE;RSVP=TRUE;CN="Patrick
  Verboven":http://kenniskantoor.be/profile/PatrickVerboven
ATTENDEE;ROLE=REQ-PARTICIPANT;PARTSTAT=TENTATIVE;RSVP=TRUE;CN="Sandrie
 n Noppen":http://kenniskantoor.be/profile/SandrienNoppen
ATTENDEE;ROLE=REQ-PARTICIPANT;PARTSTAT=TENTATIVE;RSVP=TRUE;CN="Marleen
  Degryse":http://kenniskantoor.be/profile/MarleenDegryse
ATTENDEE;ROLE=REQ-PARTICIPANT;PARTSTAT=TENTATIVE;RSVP=TRUE;CN="Patrick
  Vanhoucke":http://kenniskantoor.be/profile/PatrickVanhoucke
END:VEVENT
END:VCALENDAR
