BEGIN:VCALENDAR
PRODID:NingEventWidget-v1
VERSION:2.0
METHOD:PUBLISH
BEGIN:VTIMEZONE
TZID:Europe/Brussels
X-LIC-LOCATION:Europe/Brussels
BEGIN:DAYLIGHT
TZOFFSETFROM:+0100
TZOFFSETTO:+0200
TZNAME:CEST
DTSTART:19700329T020000
RRULE:FREQ=YEARLY;BYMONTH=3;BYDAY=-1SU
END:DAYLIGHT
BEGIN:STANDARD
TZOFFSETFROM:+0200
TZOFFSETTO:+0100
TZNAME:CET
DTSTART:19701025T030000
RRULE:FREQ=YEARLY;BYMONTH=10;BYDAY=-1SU
END:STANDARD
END:VTIMEZONE
BEGIN:VEVENT
UID:6318315:Event:18009
DTSTAMP:20260419T174726Z
SUMMARY:E-netwerkdag VSNG
DESCRIPTION:Op deze dag worden de resultaten van de Digitale Week 2011
  gepresenteerd en kijken we vooruit naar de volgende editie. Bovendien
  wordt de werking van het VSNG er toegelicht en zijn er interessante w
 orkshops over e-inclusie. Klik hier om meer te lezen over de E-netwerk
 dag.\nDeelname aan de E-netwerkdag is gratis. Inschrijven is echter we
 l noodzakelijk. Inschrijven kan via een mailtje naar laure.van.hoecke@
 linc-vzw.be. Vermeld uw naam, voornaam, functie en organisatie.\n\nZie
  voor meer informatie http://kenniskantoor.be/events/enetwerkdag-vsng
DTSTART;TZID=Europe/Brussels:20110524T000000
DTEND;TZID=Europe/Brussels:20110524T235900
CATEGORIES:studiedag
LOCATION:Jeugdherberg De Blauwput, Leuven
WEBSITE:http://maps.google.com/maps?f=q&source=s_q&hl=en&geocode=&q=11
 a+Martelarenlaan,+Leuven,+Vlaams+Gewest,+Belgi%C3%AB&aq=0&sll=37.0625,
 -95.677068&sspn=51.222969,79.013672&ie=UTF8&hq=&hnear=Martelarenlaan+1
 1,+3010+Leuven,+Vlaams-Brabant,+Vlaams+Gewest,+Belgium&z=16&iwloc=A
URL:http://maps.google.com/maps?f=q&source=s_q&hl=en&geocode=&q=11a+Ma
 rtelarenlaan,+Leuven,+Vlaams+Gewest,+Belgi%C3%AB&aq=0&sll=37.0625,-95.
 677068&sspn=51.222969,79.013672&ie=UTF8&hq=&hnear=Martelarenlaan+11,+3
 010+Leuven,+Vlaams-Brabant,+Vlaams+Gewest,+Belgium&z=16&iwloc=A
CONTACT:
ORGANIZER:VSNG
ATTACH;FMTTYPE="image/jpeg":http://storage.ning.com/topology/rest/1.0/
 file/get/2638639697?profile=original
ATTENDEE;ROLE=REQ-PARTICIPANT;PARTSTAT=ACCEPTED;RSVP=TRUE;CN="Bruno Da
 ems":http://kenniskantoor.be/profile/BrunoD
ATTENDEE;ROLE=REQ-PARTICIPANT;PARTSTAT=ACCEPTED;RSVP=TRUE;CN="Nathalie
  Wilms":http://kenniskantoor.be/profile/NathalieWilms
ATTENDEE;ROLE=REQ-PARTICIPANT;PARTSTAT=ACCEPTED;RSVP=TRUE;CN="Patrick 
 Verboven":http://kenniskantoor.be/profile/PatrickVerboven
ATTENDEE;ROLE=REQ-PARTICIPANT;PARTSTAT=ACCEPTED;RSVP=TRUE;CN="Suzanne 
 Rys":http://kenniskantoor.be/profile/SRys
ATTENDEE;ROLE=REQ-PARTICIPANT;PARTSTAT=ACCEPTED;RSVP=TRUE;CN="geert.li
 evens":http://kenniskantoor.be/profile/geertlievens
ATTENDEE;ROLE=REQ-PARTICIPANT;PARTSTAT=ACCEPTED;RSVP=TRUE;CN="Ilse Dep
 ré":http://kenniskantoor.be/profile/IlseDepre
END:VEVENT
END:VCALENDAR
