BEGIN:VCALENDAR
PRODID:NingEventWidget-v1
VERSION:2.0
METHOD:PUBLISH
BEGIN:VTIMEZONE
TZID:Europe/Brussels
X-LIC-LOCATION:Europe/Brussels
BEGIN:DAYLIGHT
TZOFFSETFROM:+0100
TZOFFSETTO:+0200
TZNAME:CEST
DTSTART:19700329T020000
RRULE:FREQ=YEARLY;BYMONTH=3;BYDAY=-1SU
END:DAYLIGHT
BEGIN:STANDARD
TZOFFSETFROM:+0200
TZOFFSETTO:+0100
TZNAME:CET
DTSTART:19701025T030000
RRULE:FREQ=YEARLY;BYMONTH=10;BYDAY=-1SU
END:STANDARD
END:VTIMEZONE
BEGIN:VEVENT
UID:6318315:Event:146500
DTSTAMP:20260422T111636Z
SUMMARY:Documentaire cinema in cc, gc en bibliotheken
DESCRIPTION:Volg deze infosessie voor programmatoren van CC’s, GC’
 s en bibliotheken en krijg op beperkte tijd alle nodige praktische, in
 houdelijke en technische info om met documentaire films aan de slag te
  gaan. De sessie vindt plaats op 5 mei in Cinema ZED (STUK), Leuven. M
 eer info vind je hier en inschrijven kan met een mailtje naar info@doc
 ville.be.\n\nZie voor meer informatie http://kenniskantoor.be/events/d
 ocumentaire-cinema-in-cc-gc-en-bibliotheken
DTSTART;TZID=Europe/Brussels:20150505T100000
DTEND;TZID=Europe/Brussels:20150505T160000
CATEGORIES:"docville:", infosessie, documentaire, cinema
LOCATION:Cinema ZED (STUK)
WEBSITE:http://www.docville.be/download/INFOSESSIE_documentaire_film_i
 n_CC_GC_BIB.pdf
URL:http://www.docville.be/download/INFOSESSIE_documentaire_film_in_CC
 _GC_BIB.pdf
CONTACT:
ORGANIZER:www.docville.be
ATTACH;FMTTYPE="image/jpeg":http://storage.ning.com/topology/rest/1.0/
 file/get/2638680218?profile=original
ATTENDEE;ROLE=REQ-PARTICIPANT;PARTSTAT=ACCEPTED;RSVP=TRUE;CN="Herlinde
  De Vos":http://kenniskantoor.be/profile/HerlindeDeVos
END:VEVENT
END:VCALENDAR
