BEGIN:VCALENDAR
PRODID:NingEventWidget-v1
VERSION:2.0
METHOD:PUBLISH
BEGIN:VTIMEZONE
TZID:Europe/Brussels
X-LIC-LOCATION:Europe/Brussels
BEGIN:DAYLIGHT
TZOFFSETFROM:+0100
TZOFFSETTO:+0200
TZNAME:CEST
DTSTART:19700329T020000
RRULE:FREQ=YEARLY;BYMONTH=3;BYDAY=-1SU
END:DAYLIGHT
BEGIN:STANDARD
TZOFFSETFROM:+0200
TZOFFSETTO:+0100
TZNAME:CET
DTSTART:19701025T030000
RRULE:FREQ=YEARLY;BYMONTH=10;BYDAY=-1SU
END:STANDARD
END:VTIMEZONE
BEGIN:VEVENT
UID:6318315:Event:666
DTSTAMP:20260422T005734Z
SUMMARY:Digitale week 2011
DESCRIPTION:De Digitale Week is een week vol multimedia activiteiten i
 n heel België, steeds gratis of zeer goedkoop. De activiteiten zijn z
 eer divers, dus zowel  beginners als mensen met wat meer ervaring zij
 n welkom.\nDe activiteiten tijdens de Digitale Week worden georganisee
 rd door plaatselijke organisaties in heel Vlaanderen. Ze organiseren l
 aagdrempelige activiteiten waarbij het gebruik van multimedia centraal
  staat. Hiernaast is er tijdens de Digitale Week een  grote publicite
 itscampagne in heel Vlaanderen en zijn er studiedagen in het Vlaams en
  federaal parlement. Via deze drie benaderingen probeert de Digitale W
 eek de digitale kloof te dichten.\n\nZie voor meer informatie http://k
 enniskantoor.be/events/digitale-week-2011
DTSTART;TZID=Europe/Brussels:20110226T000000
DTEND;TZID=Europe/Brussels:20110304T235900
CATEGORIES:campagne
LOCATION:Diverse locaties in Vlaanderen
WEBSITE:http://www.digitaleweek.be/
URL:http://www.digitaleweek.be/
CONTACT:
ORGANIZER:Linc vzw
ATTACH;FMTTYPE="image/jpeg":
ATTENDEE;ROLE=REQ-PARTICIPANT;PARTSTAT=ACCEPTED;RSVP=TRUE;CN="Ruth De 
 Belie":http://kenniskantoor.be/profile/RuthDeBelie
ATTENDEE;ROLE=REQ-PARTICIPANT;PARTSTAT=ACCEPTED;RSVP=TRUE;CN="Suzanne 
 Rys":http://kenniskantoor.be/profile/SRys
ATTENDEE;ROLE=REQ-PARTICIPANT;PARTSTAT=ACCEPTED;RSVP=TRUE;CN="Marijke 
 De Smedt":http://kenniskantoor.be/profile/MarijkeDeSmedt
ATTENDEE;ROLE=REQ-PARTICIPANT;PARTSTAT=ACCEPTED;RSVP=TRUE;CN="Laure Va
 n Hoecke":http://kenniskantoor.be/profile/LaureVanHoecke
ATTENDEE;ROLE=REQ-PARTICIPANT;PARTSTAT=ACCEPTED;RSVP=TRUE;CN="Katrien 
 Schroyens":http://kenniskantoor.be/profile/KatrienSchroyens
ATTENDEE;ROLE=REQ-PARTICIPANT;PARTSTAT=ACCEPTED;RSVP=TRUE;CN="Veerle V
 an Wesemael":http://kenniskantoor.be/profile/VeerleVanWesemael
ATTENDEE;ROLE=REQ-PARTICIPANT;PARTSTAT=ACCEPTED;RSVP=TRUE;CN="Ilse Dep
 ré":http://kenniskantoor.be/profile/IlseDepre
ATTENDEE;ROLE=REQ-PARTICIPANT;PARTSTAT=TENTATIVE;RSVP=TRUE;CN="Christi
 ana Parijs":http://kenniskantoor.be/profile/ChristianaParijs
END:VEVENT
END:VCALENDAR
