BEGIN:VCALENDAR
PRODID:NingEventWidget-v1
VERSION:2.0
METHOD:PUBLISH
BEGIN:VTIMEZONE
TZID:Europe/Brussels
X-LIC-LOCATION:Europe/Brussels
BEGIN:DAYLIGHT
TZOFFSETFROM:+0100
TZOFFSETTO:+0200
TZNAME:CEST
DTSTART:19700329T020000
RRULE:FREQ=YEARLY;BYMONTH=3;BYDAY=-1SU
END:DAYLIGHT
BEGIN:STANDARD
TZOFFSETFROM:+0200
TZOFFSETTO:+0100
TZNAME:CET
DTSTART:19701025T030000
RRULE:FREQ=YEARLY;BYMONTH=10;BYDAY=-1SU
END:STANDARD
END:VTIMEZONE
BEGIN:VEVENT
UID:6318315:Event:59803
DTSTAMP:20260420T144406Z
SUMMARY:Demo-event EPICS
DESCRIPTION:EPICS heeft als onderzoekstraject modules ontwikkeld voor 
 het verzamelen, didactiseren, manipuleren en verspreiden van digitaal 
 cultureel erfgoed zoals documenten, foto's, geluid- en beeldfragmenten
 , enzovoort, uit musea, archieven, bibliotheken en andere erfgoedinste
 llingen. Op basis van materiaal uit de omgeving van Ieper werd een mob
 iele route gemaakt waarmee leerlingen in de voetsporen van de 11-jarig
 e Jeanne Mesdom doorheen Ieper begin 1914 kunnen lopen. Het resultaat 
 kan men op 24 november bekijken tijdens het demo-event te Ieper.\n\nZi
 e voor meer informatie http://kenniskantoor.be/events/demo-event-epics
DTSTART;TZID=Europe/Brussels:20111124T100000
DTEND;TZID=Europe/Brussels:20111124T130000
CATEGORIES:demo-event
LOCATION:Ieper
WEBSITE:
URL:
CONTACT:
ORGANIZER:EPICS
ATTACH;FMTTYPE="image/jpeg":http://storage.ning.com/topology/rest/1.0/
 file/get/2638641919?profile=original
ATTENDEE;ROLE=REQ-PARTICIPANT;PARTSTAT=ACCEPTED;RSVP=TRUE;CN="Ilse Dep
 ré":http://kenniskantoor.be/profile/IlseDepre
END:VEVENT
END:VCALENDAR
