BEGIN:VCALENDAR
PRODID:NingEventWidget-v1
VERSION:2.0
METHOD:PUBLISH
BEGIN:VTIMEZONE
TZID:Europe/Brussels
X-LIC-LOCATION:Europe/Brussels
BEGIN:DAYLIGHT
TZOFFSETFROM:+0100
TZOFFSETTO:+0200
TZNAME:CEST
DTSTART:19700329T020000
RRULE:FREQ=YEARLY;BYMONTH=3;BYDAY=-1SU
END:DAYLIGHT
BEGIN:STANDARD
TZOFFSETFROM:+0200
TZOFFSETTO:+0100
TZNAME:CET
DTSTART:19701025T030000
RRULE:FREQ=YEARLY;BYMONTH=10;BYDAY=-1SU
END:STANDARD
END:VTIMEZONE
BEGIN:VEVENT
UID:6318315:Event:103437
DTSTAMP:20260419T164554Z
SUMMARY:De Staat van het Boek
DESCRIPTION:Op dinsdag 23 april organiseert het BoekenOverleg voor de 
 derde keer De Staat van het Boek. Tijdens dit symposium geven prominen
 te sprekers hun visie op de dynamiek van het boekenvak en de letterens
 ector. De Staat van het Boek is een uitgelezen ontmoetingsmoment voor
  auteurs, vormgevers, uitgevers, boekverkopers, bibliothecarissen, opi
 niemakers, beheersvennootschappen, organisatoren van literaire eveneme
 nten, politici, beleidsverantwoordelijken en lezers.\n\nZie voor meer 
 informatie http://kenniskantoor.be/events/de-staat-van-het-boek
DTSTART;TZID=Europe/Brussels:20130423T130000
DTEND;TZID=Europe/Brussels:20130423T180000
CATEGORIES:symposium
LOCATION:Radisson Blu Astrid Hotel
WEBSITE:http://www.radissonblu.be/astridhotel-antwerp
URL:http://www.radissonblu.be/astridhotel-antwerp
CONTACT:
ORGANIZER:het Boekenoverleg
ATTACH;FMTTYPE="image/jpeg":http://storage.ning.com/topology/rest/1.0/
 file/get/2638664485?profile=original
ATTENDEE;ROLE=REQ-PARTICIPANT;PARTSTAT=ACCEPTED;RSVP=TRUE;CN="inge goo
 ssens":http://kenniskantoor.be/profile/Inge
ATTENDEE;ROLE=REQ-PARTICIPANT;PARTSTAT=ACCEPTED;RSVP=TRUE;CN="Elly Van
  Acoleyen":http://kenniskantoor.be/profile/EllyVanAcoleyen
END:VEVENT
END:VCALENDAR
