BEGIN:VCALENDAR
PRODID:NingEventWidget-v1
VERSION:2.0
METHOD:PUBLISH
BEGIN:VTIMEZONE
TZID:Europe/Brussels
X-LIC-LOCATION:Europe/Brussels
BEGIN:DAYLIGHT
TZOFFSETFROM:+0100
TZOFFSETTO:+0200
TZNAME:CEST
DTSTART:19700329T020000
RRULE:FREQ=YEARLY;BYMONTH=3;BYDAY=-1SU
END:DAYLIGHT
BEGIN:STANDARD
TZOFFSETFROM:+0200
TZOFFSETTO:+0100
TZNAME:CET
DTSTART:19701025T030000
RRULE:FREQ=YEARLY;BYMONTH=10;BYDAY=-1SU
END:STANDARD
END:VTIMEZONE
BEGIN:VEVENT
UID:6318315:Event:66595
DTSTAMP:20260421T053548Z
SUMMARY:De grote verleiding - over leesbevordering
DESCRIPTION:Hoe als bibliotheek aan het leesplezier bij jonge mensen w
 erken? De studiedag toont bibliotheekmedewerkers de weg door het bos v
 an prikkelende initiatieven. Aan leesbevordering doe je niet zomaar tu
 ssendoor en je doet het niet alleen. Daarom volgt het programma twee g
 rote routes: de doorgaande leeslijn en het opzetten van leesbevorderin
 gsnetwerken. De studiedag reikt inzichten en visie aan, maar ook ontmo
 eting met praktijkmensen. LOCUS en Stichting Lezen organiseren deze st
 udiedag op 2 februari 2012 (Den Bell, Antwerpen) in samenwerking met V
 VBAD en de stad Antwerpen. Lees hier het volledige programma.\n\nZie v
 oor meer informatie http://kenniskantoor.be/events/de-grote-verleiding
 -over-leesbevordering
DTSTART;TZID=Europe/Brussels:20120202T093000
DTEND;TZID=Europe/Brussels:20120202T163000
CATEGORIES:studiedag
LOCATION:Den Bell, Antwerpen
WEBSITE:
URL:
CONTACT:
ORGANIZER:LOCUS, Stichting Lezen en VVBAD
ATTACH;FMTTYPE="image/jpeg":
ATTENDEE;ROLE=REQ-PARTICIPANT;PARTSTAT=ACCEPTED;RSVP=TRUE;CN="Christin
 e De Mey":http://kenniskantoor.be/profile/ChristineDeMey
ATTENDEE;ROLE=REQ-PARTICIPANT;PARTSTAT=ACCEPTED;RSVP=TRUE;CN="Sofie Ve
 ramme":http://kenniskantoor.be/profile/SofieVeramme
ATTENDEE;ROLE=REQ-PARTICIPANT;PARTSTAT=ACCEPTED;RSVP=TRUE;CN="Kristien
  Maes":http://kenniskantoor.be/profile/KristienMaes
ATTENDEE;ROLE=REQ-PARTICIPANT;PARTSTAT=ACCEPTED;RSVP=TRUE;CN="lisbeth 
 vandoorne":http://kenniskantoor.be/profile/lisbethvandoorne
ATTENDEE;ROLE=REQ-PARTICIPANT;PARTSTAT=ACCEPTED;RSVP=TRUE;CN="Philippe
  Liesenborghs":http://kenniskantoor.be/profile/PhilippeLiesenborghs
END:VEVENT
END:VCALENDAR
