BEGIN:VCALENDAR
PRODID:NingEventWidget-v1
VERSION:2.0
METHOD:PUBLISH
BEGIN:VTIMEZONE
TZID:Europe/Brussels
X-LIC-LOCATION:Europe/Brussels
BEGIN:DAYLIGHT
TZOFFSETFROM:+0100
TZOFFSETTO:+0200
TZNAME:CEST
DTSTART:19700329T020000
RRULE:FREQ=YEARLY;BYMONTH=3;BYDAY=-1SU
END:DAYLIGHT
BEGIN:STANDARD
TZOFFSETFROM:+0200
TZOFFSETTO:+0100
TZNAME:CET
DTSTART:19701025T030000
RRULE:FREQ=YEARLY;BYMONTH=10;BYDAY=-1SU
END:STANDARD
END:VTIMEZONE
BEGIN:VEVENT
UID:6318315:Event:24014
DTSTAMP:20260419T145638Z
SUMMARY:Cultuurforum
DESCRIPTION:Het tweede publieksevenement van het Cultuurforum 2020, da
 t kadert binnen Vlaanderen in Actie en Pact 2020, reflecteert over de 
 doorbraken die de ateliers van het Cultuurforum 2020 op 7 juni 2010 he
 bben geformuleerd. In verschillende parallelsessies maken we een tusse
 nstand en zoeken we naar acties om de doorbraken verder te realiseren.
 \nIedereen met een hart voor cultuur is uitgenodigd om die dag de dial
 oog aan te gaan. Door samen na te denken, bereiken we immers het beste
  resultaat!\n \nMeer info: www.cultuurforum.be\n\nZie voor meer infor
 matie http://kenniskantoor.be/events/cultuurforum-1
DTSTART;TZID=Europe/Brussels:20110530T000000
DTEND;TZID=Europe/Brussels:20110530T235900
CATEGORIES:studiedag
LOCATION:Genk, C-mine
WEBSITE:http://maps.google.be/maps?f=q&source=s_q&hl=nl&geocode=&q=c-m
 ine&aq=&sll=50.805935,4.432983&sspn=5.158992,9.876709&ie=UTF8&hq=c-min
 e&hnear=&ll=50.988368,5.494022&spn=0.080286,0.154324&z=13
URL:http://maps.google.be/maps?f=q&source=s_q&hl=nl&geocode=&q=c-mine&
 aq=&sll=50.805935,4.432983&sspn=5.158992,9.876709&ie=UTF8&hq=c-mine&hn
 ear=&ll=50.988368,5.494022&spn=0.080286,0.154324&z=13
CONTACT:
ORGANIZER:Departement CJSM
ATTACH;FMTTYPE="image/jpeg":http://storage.ning.com/topology/rest/1.0/
 file/get/2638639536?profile=original
ATTENDEE;ROLE=REQ-PARTICIPANT;PARTSTAT=ACCEPTED;RSVP=TRUE;CN="Elly Van
  Acoleyen":http://kenniskantoor.be/profile/EllyVanAcoleyen
ATTENDEE;ROLE=REQ-PARTICIPANT;PARTSTAT=ACCEPTED;RSVP=TRUE;CN="Ilse Dep
 ré":http://kenniskantoor.be/profile/IlseDepre
END:VEVENT
END:VCALENDAR
