BEGIN:VCALENDAR
PRODID:NingEventWidget-v1
VERSION:2.0
METHOD:PUBLISH
BEGIN:VTIMEZONE
TZID:Europe/Brussels
X-LIC-LOCATION:Europe/Brussels
BEGIN:DAYLIGHT
TZOFFSETFROM:+0100
TZOFFSETTO:+0200
TZNAME:CEST
DTSTART:19700329T020000
RRULE:FREQ=YEARLY;BYMONTH=3;BYDAY=-1SU
END:DAYLIGHT
BEGIN:STANDARD
TZOFFSETFROM:+0200
TZOFFSETTO:+0100
TZNAME:CET
DTSTART:19701025T030000
RRULE:FREQ=YEARLY;BYMONTH=10;BYDAY=-1SU
END:STANDARD
END:VTIMEZONE
BEGIN:VEVENT
UID:6318315:Event:68346
DTSTAMP:20260421T031330Z
SUMMARY:cuba holguin
DESCRIPTION:http://www.standing-feather.ca/project.html\n\nZie voor me
 er informatie http://kenniskantoor.be/events/cuba-holguin
DTSTART;TZID=Europe/Brussels:20120122T180000
DTEND;TZID=Europe/Brussels:20120122T190000
CATEGORIES:inmobilien
LOCATION:canada cuba
WEBSITE:
URL:
CONTACT:
ORGANIZER;CN="Evers Alfred":http://kenniskantoor.be/profile/EversAlfre
 d
ATTACH;FMTTYPE="image/jpeg":
ATTENDEE;ROLE=REQ-PARTICIPANT;PARTSTAT=ACCEPTED;RSVP=TRUE;CN="Evers Al
 fred":http://kenniskantoor.be/profile/EversAlfred
END:VEVENT
END:VCALENDAR
