BEGIN:VCALENDAR
PRODID:NingEventWidget-v1
VERSION:2.0
METHOD:PUBLISH
BEGIN:VTIMEZONE
TZID:Europe/Brussels
X-LIC-LOCATION:Europe/Brussels
BEGIN:DAYLIGHT
TZOFFSETFROM:+0100
TZOFFSETTO:+0200
TZNAME:CEST
DTSTART:19700329T020000
RRULE:FREQ=YEARLY;BYMONTH=3;BYDAY=-1SU
END:DAYLIGHT
BEGIN:STANDARD
TZOFFSETFROM:+0200
TZOFFSETTO:+0100
TZNAME:CET
DTSTART:19701025T030000
RRULE:FREQ=YEARLY;BYMONTH=10;BYDAY=-1SU
END:STANDARD
END:VTIMEZONE
BEGIN:VEVENT
UID:6318315:Event:44310
DTSTAMP:20260419T163021Z
SUMMARY:Cover Lover wedstrijd
DESCRIPTION:Elk boek van de bib, elke cd en elke dvd heeft een cover. 
 Een origineel voorblad, een unieke hoes of cd-boekje. Soms zijn parelt
 jes, ware kunstwerkjes. Soms ook niet.\n\nWaarom niet eens wat nieuwe 
 covers maken?\n\nBen jij een cover lover? Misschien heb jij wel inspir
 atie om bijvoorbeeld de cd ‘Mijn allergrootste successen’ van Eddy
  Wally van een nieuwe cover te voorzien? Of het eerste Harry Potter bo
 ek ‘De steen der wijzen’ van J.K. Rowling? De cd ‘Raindogs’ va
 n Tom Waits? ‘Moord in de bibliotheek’ van Agatha Christie?\n\nTit
 els zijn er meer dan voldoende. Je vindt ze via de online catalogus va
 n de bib.\n\nCriteria om de inzendingen te beoordelen? Enige humor is 
 natuurlijk niet verboden. Ook de inhoud van het boek kan belangrijk zi
 jn, een verwijzing naar de originele cover, creatief gebruik van techn
 ieken en materialen, enz…\n\nAlle creatieve uitingen zijn geschikt o
 m ons te voorzien van nieuwe covers. Eigen foto’s, fotocomposities, 
 photoshop, tekeningen, schetsen, schilderijen,… het mag allemaal.\n\
 nEen deskundige jury zal zich buigen over de ontwerpen. Inzenden kan t
 ot 1 oktober 2011. Binnenbrengen bij de Lommelse bib of mailen naar lo
 mmel@bibliotheek.be. Zorg dat de digitale inzendingen voldoende groot 
 zijn om ze af te drukken op minimaal een A4 formaat.\n\nDe beste inzen
 dingen worden beloond met een mooie prijs. Tijdens de bibliotheekweek 
 (15 tot 23 oktober) worden de mooiste werken tentoongesteld in de bib 
 en krijgen de origineelste digitale inzendingen een plaatsje op de Fli
 ckr account van de bibliotheek. De prijsuitreiking en opening van de t
 entoonstelling is voorzien op zaterdag 15 oktober.\n\nDankzij jullie, 
 dankzij de cover lovers, dankzij de bib… hebben onze boeken, cd’s 
 en dvd’s binnenkort een alternatieve cover.\n\nZie voor meer informa
 tie http://kenniskantoor.be/events/cover-lover-wedstrijd
DTSTART;TZID=Europe/Brussels:20111014T060000
DTEND;TZID=Europe/Brussels:20111015T190000
CATEGORIES:wedstrijd
LOCATION:Bibliotheek Lommel
WEBSITE:http://www.bib.lommel.be
URL:http://www.bib.lommel.be
CONTACT:011/399 680
ORGANIZER;CN="Rudi Lavreysen":http://kenniskantoor.be/profile/RudiLavr
 eysen
ATTACH;FMTTYPE="image/jpeg":
ATTENDEE;ROLE=REQ-PARTICIPANT;PARTSTAT=ACCEPTED;RSVP=TRUE;CN="Rudi Lav
 reysen":http://kenniskantoor.be/profile/RudiLavreysen
END:VEVENT
END:VCALENDAR
