BEGIN:VCALENDAR
PRODID:NingEventWidget-v1
VERSION:2.0
METHOD:PUBLISH
BEGIN:VTIMEZONE
TZID:Europe/Brussels
X-LIC-LOCATION:Europe/Brussels
BEGIN:DAYLIGHT
TZOFFSETFROM:+0100
TZOFFSETTO:+0200
TZNAME:CEST
DTSTART:19700329T020000
RRULE:FREQ=YEARLY;BYMONTH=3;BYDAY=-1SU
END:DAYLIGHT
BEGIN:STANDARD
TZOFFSETFROM:+0200
TZOFFSETTO:+0100
TZNAME:CET
DTSTART:19701025T030000
RRULE:FREQ=YEARLY;BYMONTH=10;BYDAY=-1SU
END:STANDARD
END:VTIMEZONE
BEGIN:VEVENT
UID:6318315:Event:680
DTSTAMP:20260421T101723Z
SUMMARY:Congres DB Update 2011
DESCRIPTION:Op 31 maart organiseert uitgeverij Essentials i.s.m. de Ne
 derlandse Vereniging voor Beroepsbeoefenaren in de bibliotheek-, infor
 matie- en kennissector NVB voor de tweede maal het congres DB Update i
 n het WTC Rotterdam.Dit congres richt zich op directies en bibliotheca
 rissen van openbare bibliotheken, universiteitsbibliotheken, bedrijfsb
 ibliotheken, op kennismanagers en andere informatieprofessionals.Dit j
 aar kijken we naar de bibliotheek in het licht van de ingrijpende vera
 nderingen die de keten auteur - uitgever - studio/drukker - boekhandel
 /bibliotheek te wachten staan. Immers, e-books, sociale media, apps en
  tablets zullen ongetwijfeld deze keten versplinteren. Gaan de grote l
 iteraire uitgevers ten onder omdat de best verkopende auteurs hun eige
 n boeken gaan uitgeven? Is er in drukkerijen straks geen drukpers meer
  te vinden, maar staan er alleen nog printers voor printing on demand?
  En is de graficus van nu de softwareontwikkelaar van morgen? Heeft de
  boekhandel plaats gemaakt voor online boekhandels die alleen nog e-bo
 oks verkopen? En wat is de invloed van Google Books op dit alles, van 
 Worldcat, van Amazon? En wat is de invloed van dat alles op de informa
 tieprofessional?\n\nZie voor meer informatie http://kenniskantoor.be/e
 vents/congres-db-update-2011
DTSTART;TZID=Europe/Brussels:20110331T000000
DTEND;TZID=Europe/Brussels:20110331T235900
CATEGORIES:congres, "(nl)"
LOCATION:Rotterdam
WEBSITE:http://www.metgebak.nl/essentials/DB+Update
URL:http://www.metgebak.nl/essentials/DB+Update
CONTACT:
ORGANIZER:Essentials
ATTACH;FMTTYPE="image/jpeg":http://storage.ning.com/topology/rest/1.0/
 file/get/2638638861?profile=original
ATTENDEE;ROLE=REQ-PARTICIPANT;PARTSTAT=ACCEPTED;RSVP=TRUE;CN="Rosemie 
 Callewaert":http://kenniskantoor.be/profile/RosemieCallewaert
ATTENDEE;ROLE=REQ-PARTICIPANT;PARTSTAT=ACCEPTED;RSVP=TRUE;CN="laurent 
 meese":http://kenniskantoor.be/profile/laurentmeese
ATTENDEE;ROLE=REQ-PARTICIPANT;PARTSTAT=ACCEPTED;RSVP=TRUE;CN="geert.li
 evens":http://kenniskantoor.be/profile/geertlievens
ATTENDEE;ROLE=REQ-PARTICIPANT;PARTSTAT=ACCEPTED;RSVP=TRUE;CN="Ilse Dep
 ré":http://kenniskantoor.be/profile/IlseDepre
ATTENDEE;ROLE=REQ-PARTICIPANT;PARTSTAT=ACCEPTED;RSVP=TRUE;CN="Elly Van
  Acoleyen":http://kenniskantoor.be/profile/EllyVanAcoleyen
END:VEVENT
END:VCALENDAR
