BEGIN:VCALENDAR
PRODID:NingEventWidget-v1
VERSION:2.0
METHOD:PUBLISH
BEGIN:VTIMEZONE
TZID:Europe/Brussels
X-LIC-LOCATION:Europe/Brussels
BEGIN:DAYLIGHT
TZOFFSETFROM:+0100
TZOFFSETTO:+0200
TZNAME:CEST
DTSTART:19700329T020000
RRULE:FREQ=YEARLY;BYMONTH=3;BYDAY=-1SU
END:DAYLIGHT
BEGIN:STANDARD
TZOFFSETFROM:+0200
TZOFFSETTO:+0100
TZNAME:CET
DTSTART:19701025T030000
RRULE:FREQ=YEARLY;BYMONTH=10;BYDAY=-1SU
END:STANDARD
END:VTIMEZONE
BEGIN:VEVENT
UID:6318315:Event:53636
DTSTAMP:20260420T191654Z
SUMMARY:Colloquium mediawijsheid
DESCRIPTION:Mediawijsheid is een uitgebreid begrip. Het gaat niet alle
 en om het passief consumeren van media, maar juist van een actief gebr
 uik daarvan. Mediawijsheid is: \"het leren hoe je bewust, kritisch en 
 actief kunt bewegen in een fundamenteel gemedialiseerde wereld.\". In 
 de eindtermen van het onderwijs kreeg het begrip ook een plek. Mediawi
 jsheid wordt geen apart vak maar wordt opgenomen in alle lessen. En di
 t is zeker mogelijk zonder eerst jarenlange cursussen te volgen.\n \n
 Het gaat niet langer om het afschermen of beschermen van kinderen en j
 ongeren voor negatieve invloeden van media. Het gaat erom hen te leren
  hoe met media om te gaan. Hoe dit concreet aanpakken? Kom maandag 21 
 november 2011 naar het 5de gezondheidscolloquium van JOETZ vzw \"Hoe j
 ongeren begeleiden in omgaan met media?\". Meer informatie\n\nZie voor
  meer informatie http://kenniskantoor.be/events/colloquium-mediawijshe
 id
DTSTART;TZID=Europe/Brussels:20111121T093000
DTEND;TZID=Europe/Brussels:20111121T160000
CATEGORIES:colloquium
LOCATION:Provinciehuis, Leuven
WEBSITE:http://maps.google.be/maps?q=Provincie+Vlaams-Brabant+-+Provin
 ciehuis+Leuven,+Provincieplein,+Leuven&hl=nl&sll=50.812877,4.42749&ssp
 n=3.637794,9.876709&vpsrc=0&t=m&z=15
URL:http://maps.google.be/maps?q=Provincie+Vlaams-Brabant+-+Provincieh
 uis+Leuven,+Provincieplein,+Leuven&hl=nl&sll=50.812877,4.42749&sspn=3.
 637794,9.876709&vpsrc=0&t=m&z=15
CONTACT:
ORGANIZER:JOETZ vzw
ATTACH;FMTTYPE="image/jpeg":http://storage.ning.com/topology/rest/1.0/
 file/get/2638646008?profile=original
ATTENDEE;ROLE=REQ-PARTICIPANT;PARTSTAT=ACCEPTED;RSVP=TRUE;CN="Suzanne 
 Rys":http://kenniskantoor.be/profile/SRys
ATTENDEE;ROLE=REQ-PARTICIPANT;PARTSTAT=ACCEPTED;RSVP=TRUE;CN="Ilse Dep
 ré":http://kenniskantoor.be/profile/IlseDepre
ATTENDEE;ROLE=REQ-PARTICIPANT;PARTSTAT=TENTATIVE;RSVP=TRUE;CN="Isabell
 e De Gauquier":http://kenniskantoor.be/profile/IsabelleDeGauquier
END:VEVENT
END:VCALENDAR
