BEGIN:VCALENDAR
PRODID:NingEventWidget-v1
VERSION:2.0
METHOD:PUBLISH
BEGIN:VTIMEZONE
TZID:Europe/Brussels
X-LIC-LOCATION:Europe/Brussels
BEGIN:DAYLIGHT
TZOFFSETFROM:+0100
TZOFFSETTO:+0200
TZNAME:CEST
DTSTART:19700329T020000
RRULE:FREQ=YEARLY;BYMONTH=3;BYDAY=-1SU
END:DAYLIGHT
BEGIN:STANDARD
TZOFFSETFROM:+0200
TZOFFSETTO:+0100
TZNAME:CET
DTSTART:19701025T030000
RRULE:FREQ=YEARLY;BYMONTH=10;BYDAY=-1SU
END:STANDARD
END:VTIMEZONE
BEGIN:VEVENT
UID:6318315:Event:67554
DTSTAMP:20260421T041809Z
SUMMARY:Choke2012: Wat is de toekomst van het boek?
DESCRIPTION:Moeten er nog boeken zijn? In de mediasector worden de laa
 tste decennia in een hoog tempo nieuwe technologieën en dragers aange
 reikt. Deze bieden andere mogelijkheden, maar vormen tevens een bedrei
 ging voor de klassieke printmedia.\nChoke 2012 wil het fenomeen vanuit
  verschillende hoeken belichten. Gedurende twee dagen worden over deze
  thematiek een 20-tal lezingen gehouden. Elke spreker doet dit van uit
  zijn eigen expertise. Het progamma kan u raadplegen op http://choke20
 12.tumblr.com/Programma\nInschrijven kan enkel online. Bibliotheekmede
 werkers krijgen een korting, waardoor de prijs 70,5 € bedraagt. Gebr
 uik daarvoor bij het inschrijven de kortingscode BIBCHOKE2012.\nChoke2
 012 is een initiatief van de Karel De Grote Hogeschool, Sint Lucas Ant
 werpen, Artesis Hogeschool en KASK Antwerpen, met de steun Het Plantin
  Instituut voor Typografie.\n\nZie voor meer informatie http://kennisk
 antoor.be/events/choke2012
DTSTART;TZID=Europe/Brussels:20120201T133000
DTEND;TZID=Europe/Brussels:20120202T180000
CATEGORIES:conferentie
LOCATION:Karel De Grote Hogeschool, Campus Groenplaats
WEBSITE:http://choke2012.tumblr.com/Info
URL:http://choke2012.tumblr.com/Info
CONTACT:
ORGANIZER:
ATTACH;FMTTYPE="image/jpeg":http://storage.ning.com/topology/rest/1.0/
 file/get/2638646493?profile=original
ATTENDEE;ROLE=REQ-PARTICIPANT;PARTSTAT=ACCEPTED;RSVP=TRUE;CN="Johan De
 laure":http://kenniskantoor.be/profile/JohanDelaure
ATTENDEE;ROLE=REQ-PARTICIPANT;PARTSTAT=ACCEPTED;RSVP=TRUE;CN="Elly Van
  Acoleyen":http://kenniskantoor.be/profile/EllyVanAcoleyen
ATTENDEE;ROLE=REQ-PARTICIPANT;PARTSTAT=TENTATIVE;RSVP=TRUE;CN="geert.l
 ievens":http://kenniskantoor.be/profile/geertlievens
ATTENDEE;ROLE=REQ-PARTICIPANT;PARTSTAT=TENTATIVE;RSVP=TRUE;CN="Ilse De
 pré":http://kenniskantoor.be/profile/IlseDepre
END:VEVENT
END:VCALENDAR
