BEGIN:VCALENDAR
PRODID:NingEventWidget-v1
VERSION:2.0
METHOD:PUBLISH
BEGIN:VTIMEZONE
TZID:Europe/Brussels
X-LIC-LOCATION:Europe/Brussels
BEGIN:DAYLIGHT
TZOFFSETFROM:+0100
TZOFFSETTO:+0200
TZNAME:CEST
DTSTART:19700329T020000
RRULE:FREQ=YEARLY;BYMONTH=3;BYDAY=-1SU
END:DAYLIGHT
BEGIN:STANDARD
TZOFFSETFROM:+0200
TZOFFSETTO:+0100
TZNAME:CET
DTSTART:19701025T030000
RRULE:FREQ=YEARLY;BYMONTH=10;BYDAY=-1SU
END:STANDARD
END:VTIMEZONE
BEGIN:VEVENT
UID:6318315:Event:58708
DTSTAMP:20260420T175122Z
SUMMARY:BRUGGEn tussen kind en bib: van Cabrio, Zevensprong en andere 
 kunsten
DESCRIPTION:Op dinsdag 22 november organiseert de vakgroep Jeugdbiblio
 thecarissen van de VVBAD een studiedag in de Brugse bibliotheek Biekor
 f.\nProgramma:\n\n9.30 u. onthaal\n10 u. - 12 u.\nDe vernieuwde bib â€
 ˜groter frisser anders' + rondleiding\nCabrio - een catalogus met een 
 open dakScholenwerking de Zevensprong (basisonderwijs)\n12.15 u. - 13.
 15 u. : lunch\n13.15 u - 16.15 u :\nkinderconsul, schrijfster en illus
 trator Gerda Dendooven over â€˜kinderen en cultuur- / literatuureducat
 ie'\nEen bezoek aan het atelier van Brugs illustrator/schrijver Klaas 
 Verplancke\n\nLunch en het vervoer van en naar het atelier van Klaas V
 erplancke zijn inbegrepen.\nPRAKTISCH\nSchrijf je in!\nDatum 22 novemb
 er, 9.30 u. - 16.15 u. Prijs 40 euro (leden)/ 70 euro (niet-leden)\nÂ 
 \n\n\n\nZie voor meer informatie http://kenniskantoor.be/events/brugge
 n-tussen-kind-en-bib-van-cabrio-zevensprong-en-andere
DTSTART;TZID=Europe/Brussels:20111122T000000
DTEND;TZID=Europe/Brussels:20111122T235900
CATEGORIES:studiedag, jeugdbibliothecarissen
LOCATION:OB Brugge De Biekorf, Kuipersstraat 3, 8000 Brugge
WEBSITE:http://maps.google.com/maps?q=Kuipersstraat+3,+Brugge,+Belgi%C
 3%AB&hl=nl&ie=UTF8&ll=51.209693,3.2232&spn=0.010983,0.01929&sll=51.210
 314,3.223149&sspn=0.010982,0.01929&vpsrc=0&hnear=Kuipersstraat+3,+8000
 +Brugge,+West-Vlaanderen,+Vlaams+Gewest,+Belgi%C3%AB&t=m&z=16
URL:http://maps.google.com/maps?q=Kuipersstraat+3,+Brugge,+Belgi%C3%AB
 &hl=nl&ie=UTF8&ll=51.209693,3.2232&spn=0.010983,0.01929&sll=51.210314,
 3.223149&sspn=0.010982,0.01929&vpsrc=0&hnear=Kuipersstraat+3,+8000+Bru
 gge,+West-Vlaanderen,+Vlaams+Gewest,+Belgi%C3%AB&t=m&z=16
CONTACT:
ORGANIZER:VVBAD - VJB
ATTACH;FMTTYPE="image/jpeg":
ATTENDEE;ROLE=REQ-PARTICIPANT;PARTSTAT=ACCEPTED;RSVP=TRUE;CN="Jenny Bo
 uckaert":http://kenniskantoor.be/profile/JennyBouckaert
ATTENDEE;ROLE=REQ-PARTICIPANT;PARTSTAT=ACCEPTED;RSVP=TRUE;CN="Suzy Cas
 termans":http://kenniskantoor.be/profile/SuzyCastermans
END:VEVENT
END:VCALENDAR
