BEGIN:VCALENDAR
PRODID:NingEventWidget-v1
VERSION:2.0
METHOD:PUBLISH
BEGIN:VTIMEZONE
TZID:Europe/Brussels
X-LIC-LOCATION:Europe/Brussels
BEGIN:DAYLIGHT
TZOFFSETFROM:+0100
TZOFFSETTO:+0200
TZNAME:CEST
DTSTART:19700329T020000
RRULE:FREQ=YEARLY;BYMONTH=3;BYDAY=-1SU
END:DAYLIGHT
BEGIN:STANDARD
TZOFFSETFROM:+0200
TZOFFSETTO:+0100
TZNAME:CET
DTSTART:19701025T030000
RRULE:FREQ=YEARLY;BYMONTH=10;BYDAY=-1SU
END:STANDARD
END:VTIMEZONE
BEGIN:VEVENT
UID:6318315:Event:73796
DTSTAMP:20260421T074741Z
SUMMARY:Bibs & Docs & Marketing
DESCRIPTION:BELGISCHE VERENIGING VOOR DOCUMENTATIE\nBibs & Docs & Mark
 eting\nÂ . Zet je (documentatie)centrum in de spotlight!!!\nMarketing 
 als concept en als planningsinstrument geniet in de informatiedienstve
 rlening nog geen al te grote populariteit. Hoe zorg je ervoor dat je a
 ls (documentatie)centrum aan bekendheid wint bij je interne en externe
  gebruikers? Door aanwezig te zijn op de netwerken die jouw klanten he
 t meest gebruiken. Toerisme Vlaanderen legt uit hoe zij hun documentat
 iecentrum in de schijnwerpers zetten.\ndoor Tielke Meeusen, beheerder 
 documentatiecentrum Toerisme Vlaanderen\nÂ \n. Un cas pratique : la po
 litique de promotion de la BibliothÃ¨que du Parlement europÃ©en\nLa Bi
 bliothÃ¨que du Parlement europÃ©en a dÃ©veloppÃ© une stratÃ©gie de pro
 motion et dâ€™information sur ses services qui tient compte de la spÃ©
 cificitÃ© de ses diffÃ©rentes catÃ©gories dâ€™utilisateurs.\npar Helmu
 t Masson, bibliothÃ©caire au Parlement europÃ©en\nÂ \n- Plaats : Feder
 aal Agentschap voor Nucleaire Controle, Ravensteinstraat 36, 1000 Brus
 sel\n- Trein : Brussel Centraal stationÂ \n- Metro 1 et 5 (halte Centr
 aal station)\n- Gratis voor de leden (niet-leden : 25 Euro)\nÂ Lid wor
 den: http://www.abd-bvd.be/index.php?page=inc/lidm&lang=nl\nÂ \nInschr
 ijvingsformulier / formulaire dâ€™inscription\nwww.abd-bvd.be\nÂ \nNB 
 : De uiteenzetting wordt om 16u30 gevolgd door de jaarlijkse algemene 
 vergadering van de Belgische Vereniging voor Documentatie (ABD-BVD)\nÂ
  \nÂ \n\nZie voor meer informatie http://kenniskantoor.be/events/bibs-
 docs-marketing
DTSTART;TZID=Europe/Brussels:20120321T141500
DTEND;TZID=Europe/Brussels:20120321T161500
CATEGORIES:studienamiddag
LOCATION:Federaal Agentschap voor Nucleaire Controle (FANC)
WEBSITE:http://www.fanc.be/nl/page/contact/4.aspx
URL:http://www.fanc.be/nl/page/contact/4.aspx
CONTACT:
ORGANIZER:BELGISCHE VERENIGING VOOR DOCUMENTATIE (ABD-BVD)
ATTACH;FMTTYPE="image/jpeg":http://storage.ning.com/topology/rest/1.0/
 file/get/2638648576?profile=original
ATTENDEE;ROLE=REQ-PARTICIPANT;PARTSTAT=ACCEPTED;RSVP=TRUE;CN="Marc Van
  den Bergh":http://kenniskantoor.be/profile/MarcVandenBergh
END:VEVENT
END:VCALENDAR
