BEGIN:VCALENDAR
PRODID:NingEventWidget-v1
VERSION:2.0
METHOD:PUBLISH
BEGIN:VTIMEZONE
TZID:Europe/Brussels
X-LIC-LOCATION:Europe/Brussels
BEGIN:DAYLIGHT
TZOFFSETFROM:+0100
TZOFFSETTO:+0200
TZNAME:CEST
DTSTART:19700329T020000
RRULE:FREQ=YEARLY;BYMONTH=3;BYDAY=-1SU
END:DAYLIGHT
BEGIN:STANDARD
TZOFFSETFROM:+0200
TZOFFSETTO:+0100
TZNAME:CET
DTSTART:19701025T030000
RRULE:FREQ=YEARLY;BYMONTH=10;BYDAY=-1SU
END:STANDARD
END:VTIMEZONE
BEGIN:VEVENT
UID:6318315:Event:147410
DTSTAMP:20260419T152344Z
SUMMARY:Bibliotheekcampagne 2015: infodag
DESCRIPTION:Dit najaar zetten we “Verborgen parels” van de bib in 
 de kijker tijdens de Bibliotheekcampagne. Welke verborgen parels kent 
 jouw bibliotheek? Welke boeken kregen niet de aandacht die ze verdiend
 en? Welke persoonlijke verhalen en kenniscollectie zijn de moeite waar
 d om naar voor te schuiven in jouw bib? En hoe de inwoners er maximaal
  bij betrekken?  Schrijf nu in voor de infodagen op maandag 18 mei of 
 op vrijdag 22 mei (10u-14u) in De Priem, Brussel. Deelname is gratis, 
 inschrijven kan tot en met 15 mei (16u). Meer info.\n\nZie voor meer i
 nformatie http://kenniskantoor.be/events/bibliotheekcampagne-2015-info
 dag-1
DTSTART;TZID=Europe/Brussels:20150522T093000
DTEND;TZID=Europe/Brussels:20150522T140000
CATEGORIES:infodag
LOCATION:De Priem
WEBSITE:http://www.locusnet.be/portaal/Locus/Publiekswerking/Bibliothe
 ekweek
URL:http://www.locusnet.be/portaal/Locus/Publiekswerking/Bibliotheekwe
 ek
CONTACT:
ORGANIZER;CN="Herlinde De Vos":http://kenniskantoor.be/profile/Herlind
 eDeVos
ATTACH;FMTTYPE="image/jpeg":http://storage.ning.com/topology/rest/1.0/
 file/get/2638676571?profile=original
ATTENDEE;ROLE=REQ-PARTICIPANT;PARTSTAT=ACCEPTED;RSVP=TRUE;CN="Herlinde
  De Vos":http://kenniskantoor.be/profile/HerlindeDeVos
END:VEVENT
END:VCALENDAR
