BEGIN:VCALENDAR
PRODID:NingEventWidget-v1
VERSION:2.0
METHOD:PUBLISH
BEGIN:VTIMEZONE
TZID:Europe/Brussels
X-LIC-LOCATION:Europe/Brussels
BEGIN:DAYLIGHT
TZOFFSETFROM:+0100
TZOFFSETTO:+0200
TZNAME:CEST
DTSTART:19700329T020000
RRULE:FREQ=YEARLY;BYMONTH=3;BYDAY=-1SU
END:DAYLIGHT
BEGIN:STANDARD
TZOFFSETFROM:+0200
TZOFFSETTO:+0100
TZNAME:CET
DTSTART:19701025T030000
RRULE:FREQ=YEARLY;BYMONTH=10;BYDAY=-1SU
END:STANDARD
END:VTIMEZONE
BEGIN:VEVENT
UID:6318315:Event:26159
DTSTAMP:20260419T190913Z
SUMMARY:Annie100. Intieme voorleesmomenten in de huiskamer.
DESCRIPTION:IEDEREEN LEEST VOOR! Elke dag en in het bijzonder tijdens 
 de VOORLEESESTAFETTE in het kader van ANNIE100 op zondag 22 mei 2011\n
  \nOp vrijdag 20 mei 2011 zou Annie M.G.Schmidt 100 jaar geworden z
 ijn. Op zondag 22 mei 2011 vindt er op verschillende plekken in Vlaand
 eren en Nederland een voorleesestafette plaats. We starten in Antwerpe
 n en eindigen lekker intiem in Leuven.\nANNIE en DJ DANNY brengen het 
 mooiste van Annie M.G. Schmidt.\nColumns, verhalen en liedjes.\n40 min
 uten / huiskamer.\n \n20 uur, Huiskamer 1 van de Familie Doorsnee, va
 artstraat 73\n21 uur, Huiskamer 2 van de Familie Doorsnee, vaartstraat
  50\n \nEen plekje reserveren? Dat kan tot en met vrijdag 20 mei 16.3
 0 uur.\nBellen naar 016 23 84 27 of via danny.theuwis@leuven.be / 30cc
 @leuven.be\n \nMax. 25 personen per huiskamer.\n \nDeze avond vormt 
 het intieme slotfeest van de Vlaams-Nederlandse voorleesestafette.\nEe
 n project van DE DAGEN i.s.m. 30CC, HETPALEIS, Stichting Lezen Vlaande
 ren, Bibliotheek Genk, Zorgcentrum en Bibliotheek Vlissingen en Openba
 re Bibliotheek Amsterdam.\n \nwww.dedagen.be/annie100\n \n \n\nZie 
 voor meer informatie http://kenniskantoor.be/events/annie100-intieme
DTSTART;TZID=Europe/Brussels:20110522T200000
DTEND;TZID=Europe/Brussels:20110522T220000
CATEGORIES:literatuur, voorlezen
LOCATION:op locatie, Leuven
WEBSITE:http://www.dedagen.be/annie100
URL:http://www.dedagen.be/annie100
CONTACT:
ORGANIZER:30cc
ATTACH;FMTTYPE="image/jpeg":http://storage.ning.com/topology/rest/1.0/
 file/get/2638639450?profile=original
ATTENDEE;ROLE=REQ-PARTICIPANT;PARTSTAT=ACCEPTED;RSVP=TRUE;CN="danny th
 euwis":http://kenniskantoor.be/profile/dannytheuwis
END:VEVENT
END:VCALENDAR
